BEGIN:VCALENDAR
VERSION:2.0
PRODID:-//ChamberMaster//Event Calendar 2.0//EN
METHOD:PUBLISH
X-PUBLISHED-TTL:P3D
REFRESH-INTERVAL:P3D
CALSCALE:GREGORIAN
BEGIN:VEVENT
DTSTART:20240829T153000Z
DTEND:20240829T170000Z
X-MICROSOFT-CDO-ALLDAYEVENT:FALSE
SUMMARY:2024 Leadership Frankfort Graduation at The Foundry on Broadway
DESCRIPTION:Stay tuned for a big scholarship Announcement
X-ALT-DESC;FMTTYPE=text/html:<span style="font-size:24px\;">Stay tuned for a big scholarship Announcement</span><br />\n&nbsp\;
LOCATION:The Foundry\, 317 West Broadway Street\, Frankfort Meet Keynote Speaker - Rocky Adkins Rocky Adkins is a well-known name in Kentucky. Hailing from Sandy Hook\, Rocky began his career in the public eye as a starting point guard for the Morehead State Eagles. While there\, Rocky earned his bachelor?s and master?s degrees. Shortly after ending his college basketball career\, he focused on serving the Commonwealth of Kentucky. At the age of 26\, Rocky became a member of the Kentucky House of Representative\, serving the 99th District of Kentucky for 33 years. He was the House Majority Leader for 13 years and the Minority Floor Leaders for 3 years. Further\, Rocky served six years as the Budget Chair for Transportation. Rocky is currently serving as Senior Advisor to Governor Andy Beshear. Rocky was on the forefront of expanding access to healthcare\, standing up to cuts to education and pensions\, and securing investments in energy research and tourism that have created jobs across the state. However\, Rocky is more than just a public leader. He is a husband\, father\, grandfather\, cancer survivor and a true supporter for making Team Kentucky the best it can be. The Leadership Frankfort Steering Committee & Frankfort Area Chamber Board of Directors invite you to attend the 2024 Leadership Frankfort Graduation Ceremony. Please plan to join us and hear more about the Leadership Frankfort's class of 2024 amazing leadership journey and passion for service at this year's Leadership Frankfort Graduation. We will be making connections with past Leadership Frankfort participants\, supporters\, and fellow business leaders\, along with Celebrating 2024 Graduating Class. We can't wait to see what this year's class does next! Special thanks to our Sponsor Community Trust Bank!
UID:e.1786.4531
SEQUENCE:3
DTSTAMP:20260419T133442Z
URL:https://members.frankfortky.info/events/details/2024-leadership-frankfort-graduation-at-the-foundry-on-broadway-4531
END:VEVENT

END:VCALENDAR
