BEGIN:VCALENDAR
VERSION:2.0
PRODID:-//ChamberMaster//Event Calendar 2.0//EN
METHOD:PUBLISH
X-PUBLISHED-TTL:P3D
REFRESH-INTERVAL:P3D
CALSCALE:GREGORIAN
BEGIN:VEVENT
DTSTART:20190516T210000Z
DTEND:20190517T010000Z
X-MICROSOFT-CDO-ALLDAYEVENT:FALSE
SUMMARY:6th Annual Fish Fry for Capital City Activity Center
DESCRIPTION:The 6th Annual Fish Fry\, "Community Supporting Seniors" will be held on Thursday\, May 16\, 2019 from 5-9pm at Kentucky State University's Exum Center.  \n\nFor tickets and more information contact the Capital City Activity Center at 502.223.5794 or visit www.frankfortkyseniors.org
X-ALT-DESC;FMTTYPE=text/html:The 6th Annual Fish Fry\, &quot\;Community Supporting Seniors&quot\; will be held on Thursday\, May 16\, 2019 from 5-9pm at Kentucky State University&#39\;s Exum Center.&nbsp\;&nbsp\;<br />\nFor tickets and more information contact the Capital City Activity Center at 502.223.5794 or visit www.frankfortkyseniors.org
LOCATION:Kentucky State University Exum 400 East Main Street Frankfort
UID:e.1786.3088
SEQUENCE:3
DTSTAMP:20260425T120034Z
URL:https://members.frankfortky.info/events/details/6th-annual-fish-fry-for-capital-city-activity-center-3088
END:VEVENT

END:VCALENDAR
