BEGIN:VCALENDAR
VERSION:2.0
PRODID:-//ChamberMaster//Event Calendar 2.0//EN
METHOD:PUBLISH
X-PUBLISHED-TTL:P3D
REFRESH-INTERVAL:P3D
CALSCALE:GREGORIAN
BEGIN:VEVENT
DTSTART:20190404T220000Z
DTEND:20190405T020000Z
X-MICROSOFT-CDO-ALLDAYEVENT:FALSE
SUMMARY:8th Annaul Celebrity Waiters' Dinner
DESCRIPTION:Franklin County Humane Society 8th Annual Celebrity Waiters' Dinner & Silent Auction\n\nDinner/Silent Auction/Cash Bar\n\nBusiness Casual Attire\n\nMusical Entertainment by Bill May 5
X-ALT-DESC;FMTTYPE=text/html:Franklin County Humane Society 8th Annual Celebrity Waiters&#39\; Dinner &amp\; Silent Auction<br />\nDinner/Silent Auction/Cash Bar<br />\nBusiness Casual Attire<br />\nMusical Entertainment by Bill May 5
LOCATION:Frankfort Country Club
UID:e.1786.2770
SEQUENCE:3
DTSTAMP:20260425T132553Z
URL:https://members.frankfortky.info/events/details/8th-annaul-celebrity-waiters-dinner-2770
END:VEVENT

END:VCALENDAR
