BEGIN:VCALENDAR
VERSION:2.0
PRODID:-//ChamberMaster//Event Calendar 2.0//EN
METHOD:PUBLISH
X-PUBLISHED-TTL:P3D
REFRESH-INTERVAL:P3D
CALSCALE:GREGORIAN
BEGIN:VEVENT
DTSTART:20190305T200000Z
DTEND:20190305T230000Z
X-MICROSOFT-CDO-ALLDAYEVENT:FALSE
SUMMARY:Ashwood Place - Honor Flight Celebration
DESCRIPTION:Be our guest for a special presentation from Honor Flight Kentucky. Learn more about the Honor Flight program and join us as we salute our veterans with a special recognition.
X-ALT-DESC;FMTTYPE=text/html:Be our guest for a special presentation from Honor Flight Kentucky. Learn more about the Honor Flight program and join us as we salute our veterans with a special recognition.&nbsp\;&nbsp\;<br />\n&nbsp\;
LOCATION:Ashwood Place 102 Leonardwood Drive Frankfort
UID:e.1786.3076
SEQUENCE:3
DTSTAMP:20260425T145746Z
URL:https://members.frankfortky.info/events/details/ashwood-place-honor-flight-celebration-3076
END:VEVENT

END:VCALENDAR
