BEGIN:VCALENDAR
VERSION:2.0
PRODID:-//ChamberMaster//Event Calendar 2.0//EN
METHOD:PUBLISH
X-PUBLISHED-TTL:P3D
REFRESH-INTERVAL:P3D
CALSCALE:GREGORIAN
BEGIN:VEVENT
DTSTART:20240820T203000Z
DTEND:20240820T213000Z
X-MICROSOFT-CDO-ALLDAYEVENT:FALSE
SUMMARY:August Maximize Your Membership
DESCRIPTION:Maximize Your Membership will put you on the road to success. We want to make sure you are leveraging your chamber membership to meet the needs of your business and professional goals. Breakfast is provided by our sponsor-First Federal Savings Bank. For new or existing members looking for a refresher course in making the most of their membership.
X-ALT-DESC;FMTTYPE=text/html:<span class="JsGRdQ" style="color: rgb(34\, 34\, 34)\;">Maximize Your Membership will put you on the road to success. We want to make sure you are leveraging your chamber membership to meet the needs of your business and professional goals. Breakfast is provided by our sponsor-First Federal Savings Bank. For new or existing members looking for a refresher course in making the most of their membership.</span>
LOCATION:First Federal Savings Bank 216 W. Main Street 2nd floor boardroom Free Parking\, compliments of First Federal\, is provided in the Public Garage located at 100 Ann Street. Enter the garage from Ann Street. First Federal parking is located on the first incline on the right.
UID:e.1786.4533
SEQUENCE:3
DTSTAMP:20260419T133108Z
URL:https://members.frankfortky.info/events/details/august-maximize-your-membership-08-20-2024-4533
END:VEVENT

END:VCALENDAR
