BEGIN:VCALENDAR
VERSION:2.0
PRODID:-//ChamberMaster//Event Calendar 2.0//EN
METHOD:PUBLISH
X-PUBLISHED-TTL:P3D
REFRESH-INTERVAL:P3D
CALSCALE:GREGORIAN
BEGIN:VEVENT
DTSTART:20240801T123000Z
DTEND:20240801T140000Z
X-MICROSOFT-CDO-ALLDAYEVENT:FALSE
SUMMARY:August WIN (Women In Network) sponsored by NUCOR and Casa of The Bluegrass
DESCRIPTION:The mission of WIN is to provide opportunities for women to network\, form new business relationships and friendships\, share ideas and support one another. WIN Breakfasts are held monthly and are hosted by a woman-owned or managed business.  These are open to both Frankfort Area Chamber Members and guests in our surrounding area!
X-ALT-DESC;FMTTYPE=text/html:<span style="color: rgb(64\, 64\, 64)\; font-family: Lato\, Helvetica\, Arial\, sans-serif\; font-size: 16px\; background-color: rgb(247\, 247\, 247)\;">The&nbsp\;mission of WIN is to provide opportunities for women to network\, form new business relationships and friendships\, share ideas and support one another. WIN Breakfasts are held monthly and are hosted by a woman-owned or managed business.&nbsp\; These are open to both Frankfort Area Chamber Members and guests in our surrounding area!</span><br />\n&nbsp\;
LOCATION:The WIN is at Nucor. The address is 1099 Leestown Road. Go through the gate\, it will be open and enter under the green awning.
UID:e.1786.4561
SEQUENCE:3
DTSTAMP:20260419T133731Z
URL:https://members.frankfortky.info/events/details/august-win-women-in-network-sponsored-by-nucor-and-casa-of-the-bluegrass-4561
END:VEVENT

END:VCALENDAR
