BEGIN:VCALENDAR
VERSION:2.0
PRODID:-//ChamberMaster//Event Calendar 2.0//EN
METHOD:PUBLISH
X-PUBLISHED-TTL:P3D
REFRESH-INTERVAL:P3D
CALSCALE:GREGORIAN
BEGIN:VEVENT
DTSTART:20181003T183000Z
DTEND:20181003T193000Z
X-MICROSOFT-CDO-ALLDAYEVENT:FALSE
SUMMARY:BackBone Bonanza
DESCRIPTION:Learn about different types of vertebrate animals in this fun\, hands-on activity! \n\nGeared for childfren ages 10 and under.
X-ALT-DESC;FMTTYPE=text/html:Learn about different types of vertebrate animals in this fun\, hands-on activity!&nbsp\;<br />\nGeared for childfren ages 10 and under.
LOCATION:Salato Wildlife Education Center 1 Sportman's Lane Frankfort\, KY 40601
UID:e.1786.3040
SEQUENCE:3
DTSTAMP:20260425T230412Z
URL:https://members.frankfortky.info/events/details/backbone-bonanza-3040
END:VEVENT

END:VCALENDAR
