BEGIN:VCALENDAR
VERSION:2.0
PRODID:-//ChamberMaster//Event Calendar 2.0//EN
METHOD:PUBLISH
X-PUBLISHED-TTL:P3D
REFRESH-INTERVAL:P3D
CALSCALE:GREGORIAN
BEGIN:VEVENT
DTSTART:20190318T200000Z
DTEND:20190318T220000Z
X-MICROSOFT-CDO-ALLDAYEVENT:FALSE
SUMMARY:Backpack Snacks of Frankfort/Franklin Couunty Open House
DESCRIPTION:You are cordially invited to Frankfort's Backpack Snack Program Open House & Appreciation.  \n\nBackpack Snacks Program of Frankfort depends on everyone in the community to help feed our children.  We couldn't do it without YOU!  \n\nFeeding Our Children One Meal at a Time
X-ALT-DESC;FMTTYPE=text/html:You are cordially invited to Frankfort&#39\;s Backpack Snack Program Open House &amp\; Appreciation.&nbsp\;&nbsp\;<br />\nBackpack Snacks Program of Frankfort depends on everyone in the community to help feed our&nbsp\;children.&nbsp\; We couldn&#39\;t do it without YOU!&nbsp\;&nbsp\;<br />\nFeeding Our Children One Meal at a Time<br />\n&nbsp\;
LOCATION:First Christian Church 316 Ann Street Frankfort KY
UID:e.1786.3085
SEQUENCE:3
DTSTAMP:20260425T164355Z
URL:https://members.frankfortky.info/events/details/backpack-snacks-of-frankfort-franklin-couunty-open-house-3085
END:VEVENT

END:VCALENDAR
