BEGIN:VCALENDAR
VERSION:2.0
PRODID:-//ChamberMaster//Event Calendar 2.0//EN
METHOD:PUBLISH
X-PUBLISHED-TTL:P3D
REFRESH-INTERVAL:P3D
CALSCALE:GREGORIAN
BEGIN:VEVENT
DTSTART:20190214T150000Z
DTEND:20190217T200000Z
X-MICROSOFT-CDO-ALLDAYEVENT:FALSE
SUMMARY:Be Spontaneous for Valentine
DESCRIPTION:BE SPONTANEOUS for VALENTINES! February 14th - 17th\, 2019 Do you want to have fun with your Valentine? We've got it! Two rounds of 50 targets\, one gun rental (share)\, shot shells\, golf cart\, hand warmers\, ear protection\, hot chocolate and chocolate covered strawberries   All for $150 + tax. $50 SAVINGS RSVP by February 8\, 2019 502-484-4569. *Deposit required
X-ALT-DESC;FMTTYPE=text/html:BE SPONTANEOUS for VALENTINES! February 14th - 17th\, 2019 Do you want to have fun with your Valentine? We&rsquo\;ve got it! Two rounds of 50 targets\, one gun rental (share)\, shot shells\, golf cart\, hand warmers\, ear protection\, hot chocolate and chocolate covered strawberries&hellip\;&hellip\; All for $150 + tax. $50 SAVINGS RSVP by February 8\, 2019 502-484-4569. *Deposit required
LOCATION:1860 GEORGETOWN RD ELK CREEK HUNT CLUB
UID:e.1786.3063
SEQUENCE:3
DTSTAMP:20260425T163743Z
URL:https://members.frankfortky.info/events/details/be-spontaneous-for-valentine-3063
END:VEVENT

END:VCALENDAR
