BEGIN:VCALENDAR
VERSION:2.0
PRODID:-//ChamberMaster//Event Calendar 2.0//EN
METHOD:PUBLISH
X-PUBLISHED-TTL:P3D
REFRESH-INTERVAL:P3D
CALSCALE:GREGORIAN
BEGIN:VEVENT
DTSTART:20180728T140000Z
DTEND:20180728T200000Z
X-MICROSOFT-CDO-ALLDAYEVENT:FALSE
SUMMARY:Blacksmith Hammer In
DESCRIPTION:Saturday July 28: Josephine Sculpture Park will be hosting a Blacksmith hammer in. Enjoy demonstrations by several different smiths\, gain hands on experience at the forge\, explore tool and craft sales\, win door prizes and participate in the hammer throwing competition! Amazing Gracie's Food Truck and Annie's Forged Coffee will be on site too! This event is free\, parking is $5 per car. This event is organized by the Blacksmiths of Kentucky. JSP is available for your next event too! Visit Event Rental for more details.
X-ALT-DESC;FMTTYPE=text/html:Saturday July 28: Josephine Sculpture Park will be hosting a Blacksmith hammer in. Enjoy demonstrations by several different smiths\, gain hands on experience at the forge\, explore tool and craft sales\, win door prizes and participate in the hammer throwing competition! Amazing Gracie&rsquo\;s Food Truck and Annie&rsquo\;s Forged Coffee will be on site too! This event is free\, parking is $5 per car. This event is organized by the Blacksmiths of Kentucky. JSP is available for your next event too! Visit Event Rental for more details.
LOCATION:Josephine Sculpture Park\, 3355 Lawrenceburg Rd
UID:e.1786.3012
SEQUENCE:3
DTSTAMP:20260426T040346Z
URL:https://members.frankfortky.info/events/details/blacksmith-hammer-in-3012
END:VEVENT

END:VCALENDAR
