BEGIN:VCALENDAR
VERSION:2.0
PRODID:-//ChamberMaster//Event Calendar 2.0//EN
METHOD:PUBLISH
X-PUBLISHED-TTL:P3D
REFRESH-INTERVAL:P3D
CALSCALE:GREGORIAN
BEGIN:VEVENT
DTSTART:20180726T213000Z
DTEND:20180727T003000Z
X-MICROSOFT-CDO-ALLDAYEVENT:FALSE
SUMMARY:Bluegrass Hospice Care Volunteer Training
DESCRIPTION:Bluegrass Hospice Care Volunteer Training\n\n643 Teton Trail\, Frankfort\, Ky.\n\n5:30-8:30 p.m.\n\nPizza & Drinks Provided\n\n        Learn more about Bluegrass Care Navigators\n\n        Learn how you can help hospice patients and families\n\n        Learn how you can assist hospice staff\n\n\n\nRSVP to Shellie Brown @ 502.223.1744 or sbrown@bgcarenav.org\n\n\n\nJune 28\n\nJuly 26\n\nAugust 30\n\nSeptember 27\n\nOctober 25\n\nNovember 29\n\nDecember 27
X-ALT-DESC;FMTTYPE=text/html:<span style="font-family:calibri\,sans-serif\;">Bluegrass Hospice Care Volunteer Training<br />\n643 Teton Trail\, Frankfort\, Ky.<br />\n5:30-8:30 p.m.<br />\nPizza &amp\; Drinks Provided<br />\n&bull\; &nbsp\;&nbsp\;&nbsp\;&nbsp\;&nbsp\;&nbsp\;Learn more about Bluegrass Care Navigators<br />\n&bull\; &nbsp\;&nbsp\;&nbsp\;&nbsp\;&nbsp\;&nbsp\;Learn how you can help hospice patients and families<br />\n&bull\; &nbsp\;&nbsp\;&nbsp\;&nbsp\;&nbsp\;&nbsp\;Learn how you can assist hospice staff<br />\n<br />\nRSVP to Shellie Brown @ 502.223.1744 or <a href="mailto:sbrown@bgcarenav.org">sbrown@bgcarenav.org</a><br />\n<br />\nJune 28<br />\nJuly 26<br />\nAugust 30<br />\nSeptember 27<br />\nOctober 25<br />\nNovember 29<br />\nDecember 27</span>
LOCATION:Bluegrass Hospice Care Volunteer Training 643 Teton Trail\, Frankfort\, Ky.
UID:e.1786.2911
SEQUENCE:3
DTSTAMP:20260426T041150Z
URL:https://members.frankfortky.info/events/details/bluegrass-hospice-care-volunteer-training-07-26-2018-2911
END:VEVENT

END:VCALENDAR
