BEGIN:VCALENDAR
VERSION:2.0
PRODID:-//ChamberMaster//Event Calendar 2.0//EN
METHOD:PUBLISH
X-PUBLISHED-TTL:P3D
REFRESH-INTERVAL:P3D
CALSCALE:GREGORIAN
BEGIN:VEVENT
DTSTART:20190429T223000Z
DTEND:20190429T223000Z
X-MICROSOFT-CDO-ALLDAYEVENT:FALSE
SUMMARY:Book Discussion "The Joy Luck Club"
DESCRIPTION:Book Discussion: The Joy Luck Club\n\nMonday\, April 29 @ 6:30pm\n\nRiver Room\n\n \n\nJoin us to discuss this year's One Book One Frankfort selection\, The Joy Luck Club by Amy Tan.\n\n \n\nAdults\, please register for this One Book One Frankfort event. For more information\, contact Diane Dehoney at 352-2665 x108 or diane@pspl.org.\n\n \n\nRegister: http://bit.ly/OBOFdiscussionApril29
X-ALT-DESC;FMTTYPE=text/html:<p style="margin:0in\;margin-bottom:.0001pt\;background:white"><b><span style="font-size:14.0pt\;font-family:&quot\;Calibri&quot\;\,&quot\;sans-serif&quot\;">Book Discussion: <i>The Joy Luck Club</i><o:p></o:p></span></b></p>\n\n<p style="margin:0in\;margin-bottom:.0001pt\;background:white"><b><span style="font-size:14.0pt\;font-family:&quot\;Calibri&quot\;\,&quot\;sans-serif&quot\;">Monday\, April 29 @ 6:30pm<o:p></o:p></span></b></p>\n\n<p style="margin:0in\;margin-bottom:.0001pt\;background:white"><b><span style="font-size:14.0pt\;font-family:&quot\;Calibri&quot\;\,&quot\;sans-serif&quot\;">River Room<o:p></o:p></span></b></p>\n\n<p style="margin:0in\;margin-bottom:.0001pt\;background:white"><span style="font-size:14.0pt\;font-family:&quot\;Calibri&quot\;\,&quot\;sans-serif&quot\;"><o:p>&nbsp\;</o:p></span></p>\n\n<p style="margin:0in\;margin-bottom:.0001pt\;background:white"><span style="font-size:14.0pt\;font-family:&quot\;Calibri&quot\;\,&quot\;sans-serif&quot\;">Join us to discuss this year&rsquo\;s One Book One Frankfort selection\,&nbsp\;<em><span style="font-family:\n&quot\;Calibri&quot\;\,&quot\;sans-serif&quot\;">The Joy Luck Club</span></em>&nbsp\;by Amy Tan.<o:p></o:p></span></p>\n\n<p style="margin:0in\;margin-bottom:.0001pt\;background:white\;box-sizing: inherit\;\nfont-variant-ligatures: normal\;font-variant-caps: normal\;orphans: 2\;widows: 2\;\n-webkit-text-stroke-width: 0px\;text-decoration-style: initial\;text-decoration-color: initial\;\nword-spacing:0px"><span style="font-size:14.0pt\;font-family:&quot\;Calibri&quot\;\,&quot\;sans-serif&quot\;"><o:p>&nbsp\;</o:p></span></p>\n\n<p style="margin:0in\;margin-bottom:.0001pt\;background:white"><span style="font-size:14.0pt\;font-family:&quot\;Calibri&quot\;\,&quot\;sans-serif&quot\;">Adults\, please register for this One Book One Frankfort event. For more information\, contact Diane Dehoney at 352-2665 x108 or&nbsp\;<a href="mailto:diane@pspl.org"><span style="color:windowtext">diane@pspl.org</span></a>.<o:p></o:p></span></p>\n\n<p style="margin:0in\;margin-bottom:.0001pt\;background:white\;box-sizing: inherit\;\nfont-variant-ligatures: normal\;font-variant-caps: normal\;orphans: 2\;widows: 2\;\n-webkit-text-stroke-width: 0px\;text-decoration-style: initial\;text-decoration-color: initial\;\nword-spacing:0px"><span style="font-size:14.0pt\;font-family:&quot\;Calibri&quot\;\,&quot\;sans-serif&quot\;"><o:p>&nbsp\;</o:p></span></p>\n\n<p style="margin:0in\;margin-bottom:.0001pt\;background:white"><span style="font-size:14.0pt\;font-family:&quot\;Calibri&quot\;\,&quot\;sans-serif&quot\;">Register: <a href="http://bit.ly/OBOFdiscussionApril29"><span style="color:windowtext">http://bit.ly/OBOFdiscussionApril29</span></a><o:p></o:p></span></p>\n
LOCATION:Paul Sawyier Public Library
UID:e.1786.3109
SEQUENCE:3
DTSTAMP:20260425T133402Z
URL:https://members.frankfortky.info/events/details/book-discussion-the-joy-luck-club-3109
END:VEVENT

END:VCALENDAR
