BEGIN:VCALENDAR
VERSION:2.0
PRODID:-//ChamberMaster//Event Calendar 2.0//EN
METHOD:PUBLISH
X-PUBLISHED-TTL:P3D
REFRESH-INTERVAL:P3D
CALSCALE:GREGORIAN
BEGIN:VEVENT
DTSTART:20190509T220000Z
DTEND:20190510T000000Z
X-MICROSOFT-CDO-ALLDAYEVENT:FALSE
SUMMARY:Book Launch: The Book Woman of Troublesome Creek
DESCRIPTION:Book Launch: The Book Woman of Troublesome Creek\n\nThursday\, May 9 @ 6:00pm\n\nRiver Room\n\n \n\nJoin us as we celebrate the launch of Kim Michele Richardson's new release\, The Book Woman of Troublesome Creek. Inspired by the true blue-skinned people of Kentucky and the brave and dedicated Kentucky Pack Horse library service of the 1930's\, The Book Woman of Troublesome Creek is a story of raw courage\, fierce strength\, and one woman's belief that books can carry us anywhere even back home. Meet the author and listen as she reads from and discusses the novel. A signing will follow with copies available for purchase from Poor Richard's Books.\n\n \n\nPlease register online or at the library. For more information\, contact Diane Dehoney at 352-2665 x108 or diane@pspl.org.\n\n \n\nRegister: http://bit.ly/BookLaunchRichardson
X-ALT-DESC;FMTTYPE=text/html:<p style="margin:0in\;margin-bottom:.0001pt\;background:white"><b><span style="font-size:14.0pt\;font-family:&quot\;Calibri&quot\;\,&quot\;sans-serif&quot\;">Book Launch: <i>The Book Woman of Troublesome Creek<o:p></o:p></i></span></b></p>\n\n<p style="margin:0in\;margin-bottom:.0001pt\;background:white"><b><span style="font-size:14.0pt\;font-family:&quot\;Calibri&quot\;\,&quot\;sans-serif&quot\;">Thursday\, May 9 @ 6:00pm<o:p></o:p></span></b></p>\n\n<p style="margin:0in\;margin-bottom:.0001pt\;background:white"><b><span style="font-size:14.0pt\;font-family:&quot\;Calibri&quot\;\,&quot\;sans-serif&quot\;">River Room<o:p></o:p></span></b></p>\n\n<p style="margin:0in\;margin-bottom:.0001pt\;background:white"><span style="font-size:14.0pt\;font-family:&quot\;Calibri&quot\;\,&quot\;sans-serif&quot\;"><o:p>&nbsp\;</o:p></span></p>\n\n<p style="margin:0in\;margin-bottom:.0001pt\;background:white"><span style="font-size:14.0pt\;font-family:&quot\;Calibri&quot\;\,&quot\;sans-serif&quot\;">Join us as we celebrate the launch of Kim Michele Richardson&rsquo\;s new release\,&nbsp\;<em><span style="font-family:&quot\;Calibri&quot\;\,&quot\;sans-serif&quot\;">The Book Woman of Troublesome Creek</span></em>. Inspired by the true blue-skinned people of Kentucky and the brave and dedicated Kentucky Pack Horse library service of the 1930&rsquo\;s\, <i>The Book Woman of Troublesome Creek</i> is a story of raw courage\, fierce strength\, and one woman&rsquo\;s belief that books can carry us anywhere&ndash\;even back home. Meet the author and listen as she reads from and discusses the novel. A signing will follow with copies available for purchase from Poor Richard&rsquo\;s Books.<o:p></o:p></span></p>\n\n<p style="margin:0in\;margin-bottom:.0001pt\;background:white\;box-sizing: inherit\;\nfont-variant-ligatures: normal\;font-variant-caps: normal\;orphans: 2\;widows: 2\;\n-webkit-text-stroke-width: 0px\;text-decoration-style: initial\;text-decoration-color: initial\;\nword-spacing:0px"><span style="font-size:14.0pt\;font-family:&quot\;Calibri&quot\;\,&quot\;sans-serif&quot\;"><o:p>&nbsp\;</o:p></span></p>\n\n<p style="margin:0in\;margin-bottom:.0001pt\;background:white"><span style="font-size:14.0pt\;font-family:&quot\;Calibri&quot\;\,&quot\;sans-serif&quot\;">Please register online or at the library. For more information\, contact Diane Dehoney at 352-2665 x108 or&nbsp\;<a href="mailto:diane@pspl.org"><span style="color:windowtext">diane@pspl.org</span></a>.<o:p></o:p></span></p>\n\n<p style="margin:0in\;margin-bottom:.0001pt\;background:white\;box-sizing: inherit\;\nfont-variant-ligatures: normal\;font-variant-caps: normal\;orphans: 2\;widows: 2\;\n-webkit-text-stroke-width: 0px\;text-decoration-style: initial\;text-decoration-color: initial\;\nword-spacing:0px"><span style="font-size:14.0pt\;font-family:&quot\;Calibri&quot\;\,&quot\;sans-serif&quot\;"><o:p>&nbsp\;</o:p></span></p>\n\n<p style="margin:0in\;margin-bottom:.0001pt\;background:white"><span style="font-size:14.0pt\;font-family:&quot\;Calibri&quot\;\,&quot\;sans-serif&quot\;">Register:&nbsp\;<a href="http://bit.ly/BookLaunchRichardson"><span style="color:windowtext">http://bit.ly/BookLaunchRichardson</span></a><o:p></o:p></span></p>\n
LOCATION:Paul Sawyier Public Library 319 Wapping St. Frankfort\, KY 40601
UID:e.1786.3116
SEQUENCE:3
DTSTAMP:20260425T133629Z
URL:https://members.frankfortky.info/events/details/book-launch-the-book-woman-of-troublesome-creek-3116
END:VEVENT

END:VCALENDAR
