BEGIN:VCALENDAR
VERSION:2.0
PRODID:-//ChamberMaster//Event Calendar 2.0//EN
METHOD:PUBLISH
X-PUBLISHED-TTL:P3D
REFRESH-INTERVAL:P3D
CALSCALE:GREGORIAN
BEGIN:VEVENT
DTSTART:20221001T180000Z
DTEND:20221002T220000Z
X-MICROSOFT-CDO-ALLDAYEVENT:FALSE
SUMMARY:Bourbon On The Banks Festival
DESCRIPTION:Link below to Bourbon on the Banks tickets
X-ALT-DESC;FMTTYPE=text/html:Link below to Bourbon on the Banks tickets<br />\n&nbsp\;
LOCATION:
UID:e.1786.4114
SEQUENCE:3
DTSTAMP:20260422T122453Z
URL:https://members.frankfortky.info/events/details/bourbon-on-the-banks-festival-4114
END:VEVENT

END:VCALENDAR
