BEGIN:VCALENDAR
VERSION:2.0
PRODID:-//ChamberMaster//Event Calendar 2.0//EN
METHOD:PUBLISH
X-PUBLISHED-TTL:P3D
REFRESH-INTERVAL:P3D
CALSCALE:GREGORIAN
BEGIN:VEVENT
DTSTART;VALUE=DATE:20181020
DTEND;VALUE=DATE:20181021
TRANSP:TRANSPARENT
X-MICROSOFT-CDO-ALLDAYEVENT:TRUE
SUMMARY:Bourbonanza
DESCRIPTION:Enjoy the love of Bourbon\, then plan on attending the October 20\, 2018\, Bourbanza.
X-ALT-DESC;FMTTYPE=text/html:Enjoy the love of Bourbon\, then plan on attending the October 20\, 2018\, Bourbanza.&nbsp\;&nbsp\;
LOCATION:Downtown Frankfort
UID:e.1786.2746
SEQUENCE:3
DTSTAMP:20260426T003530Z
URL:https://members.frankfortky.info/events/details/bourbonanza-2746
END:VEVENT

END:VCALENDAR
