BEGIN:VCALENDAR
VERSION:2.0
PRODID:-//ChamberMaster//Event Calendar 2.0//EN
METHOD:PUBLISH
X-PUBLISHED-TTL:P3D
REFRESH-INTERVAL:P3D
CALSCALE:GREGORIAN
BEGIN:VEVENT
DTSTART:20190511T230000Z
DTEND:20190512T000000Z
X-MICROSOFT-CDO-ALLDAYEVENT:FALSE
SUMMARY:Buffalo Trace Tour
DESCRIPTION:Free Buffalo Trace Ghost Tours Thursday through Saturday at 7 pm Free Tours by Reservation only. buffalotracedistillery.com 502-696-5926
X-ALT-DESC;FMTTYPE=text/html:Free Buffalo Trace Ghost&nbsp\;Tours Thursday through Saturday at 7 pm Free Tours by Reservation only. buffalotracedistillery.com 502-696-5926
LOCATION:
UID:e.1786.2541
SEQUENCE:3
DTSTAMP:20260425T115333Z
URL:https://members.frankfortky.info/events/details/buffalo-trace-tour-05-11-2019-2541
END:VEVENT

END:VCALENDAR
