BEGIN:VCALENDAR
VERSION:2.0
PRODID:-//ChamberMaster//Event Calendar 2.0//EN
METHOD:PUBLISH
X-PUBLISHED-TTL:P3D
REFRESH-INTERVAL:P3D
CALSCALE:GREGORIAN
BEGIN:VEVENT
DTSTART:20190321T210000Z
DTEND:20190321T230000Z
X-MICROSOFT-CDO-ALLDAYEVENT:FALSE
SUMMARY:Business After Hour -Commonwealth Credit Union
DESCRIPTION:Please join the Frankfort Area Chamber and our March Business after Hours host Commonwealth Credit Union for an excellent opportunity to network and socialize with other business professionals in a relaxed and open setting. Free to attend\, members are encouraged to bring co-workers\, friends and local business associates to create a diverse and lively group of attendees.
X-ALT-DESC;FMTTYPE=text/html:Please join the Frankfort Area Chamber and our March Business after Hours host Commonwealth Credit Union for an excellent opportunity to network and socialize with other business professionals in a relaxed and open setting. Free to attend\, members are encouraged to bring co-workers\, friends and local business associates to create a diverse and lively group of attendees.<br />\n&nbsp\;
LOCATION:Commonwealth Credit Union High Street Location
UID:e.1786.3066
SEQUENCE:3
DTSTAMP:20260425T164348Z
URL:https://members.frankfortky.info/events/details/business-after-hour-commonwealth-credit-union-3066
END:VEVENT

END:VCALENDAR
