BEGIN:VCALENDAR
VERSION:2.0
PRODID:-//ChamberMaster//Event Calendar 2.0//EN
METHOD:PUBLISH
X-PUBLISHED-TTL:P3D
REFRESH-INTERVAL:P3D
CALSCALE:GREGORIAN
BEGIN:VEVENT
DTSTART:20240917T203000Z
DTEND:20240917T223000Z
X-MICROSOFT-CDO-ALLDAYEVENT:FALSE
SUMMARY:Business After Hours at Capital City Activity Center & Howser Tavern
DESCRIPTION:A Business After Hours (BAH) is a networking and social event to help create business contacts and gain exposure for the Frankfort Area Chamber member businesses and to promote awareness of member businesses in a fun\, relaxed atmosphere.
X-ALT-DESC;FMTTYPE=text/html:<span style="color: rgb(31\, 31\, 31)\; font-family: &quot\;Google Sans&quot\;\, Roboto\, Arial\, sans-serif\; font-size: 20px\;">A Business After Hours (BAH) is a networking and social event to help create business contacts and gain exposure for the Frankfort Area Chamber member businesses and to promote awareness of member businesses in a fun\, relaxed atmosphere.</span>
LOCATION:202 Medical Heights Drive Frankfort\, KY 40601
UID:e.1786.5480
SEQUENCE:3
DTSTAMP:20260419T151254Z
URL:https://members.frankfortky.info/events/details/business-after-hours-at-capital-city-activity-center-howser-tavern-5480
END:VEVENT

END:VCALENDAR
