BEGIN:VCALENDAR
VERSION:2.0
PRODID:-//ChamberMaster//Event Calendar 2.0//EN
METHOD:PUBLISH
X-PUBLISHED-TTL:P3D
REFRESH-INTERVAL:P3D
CALSCALE:GREGORIAN
BEGIN:VEVENT
DTSTART:20190625T210000Z
DTEND:20190625T230000Z
X-MICROSOFT-CDO-ALLDAYEVENT:FALSE
SUMMARY:Business after Hours @ Dominion Senior Living
DESCRIPTION:Dominion Senior Living is hosting an After Hours Event on June 25\, 2019. It will be a great time to meet and greet with peers from the Frankfort Area Chamber and our partners at the Anderson County Chamber. \n\n  \n\nDominion Senior Living has graciously offered to serve as our host for this event at their beautiful Senior Living Facility\n\n \n\nIt will be an evening of fun and fellowship!!
X-ALT-DESC;FMTTYPE=text/html:<span style="font-size:11px\;"><span style="color:#000000\;"><span style="font-family:tahoma\,sans-serif\;">Dominion Senior Living is hosting an After Hours Event on June 25\, 2019. It will be a great time to meet and greet with peers from the Frankfort Area Chamber and our partners at the Anderson County Chamber.&nbsp\;</span><br />\n&nbsp\;&nbsp\;<br />\n<span style="font-family:tahoma\,sans-serif\;">Dominion Senior Living has graciously offered to serve as our host for this event at their beautiful Senior Living Facility</span><br />\n&nbsp\;<br />\n<span style="font-family:tahoma\,sans-serif\;">It will be an evening of fun and fellowship!!</span></span></span>
LOCATION:Dominion Senior Living 122 Leonardwood Drive Frankfort\, KY 40601
UID:e.1786.3112
SEQUENCE:3
DTSTAMP:20260425T115005Z
URL:https://members.frankfortky.info/events/details/business-after-hours-dominion-senior-living-3112
END:VEVENT

END:VCALENDAR
