BEGIN:VCALENDAR
VERSION:2.0
PRODID:-//ChamberMaster//Event Calendar 2.0//EN
METHOD:PUBLISH
X-PUBLISHED-TTL:P3D
REFRESH-INTERVAL:P3D
CALSCALE:GREGORIAN
BEGIN:VEVENT
DTSTART:20190124T220000Z
DTEND:20190125T000000Z
X-MICROSOFT-CDO-ALLDAYEVENT:FALSE
SUMMARY:Business after Hours @ Elk Creek Winery
DESCRIPTION:Regional Business after Hours @ Elk Creek Winery\, Owenton\, KY\n\nJoin fellow Chamber members from the Frankfort Area and Owen County Chambers for an evening of networking and entertainment.
X-ALT-DESC;FMTTYPE=text/html:<span style="font-weight:bold\;"><span style="font-size:11pt\;">Regional Business after Hours @ </span></span><span style="font-weight:bold\;"><span style="font-size:11pt\;">Elk Creek Winery\, Owenton\, KY</span></span><br />\n<span style="font-size: 14.6667px\;">Join fellow Chamber members from the Frankfort Area and Owen County Chambers for an evening of networking and entertainment.&nbsp\;</span><br />\n&nbsp\;
LOCATION:Regional Business after Hours @ Elk Creek Winery\, Owenton\, KY Thursday\, January 24\, 2019 - 5:00pm - 7:00pm 150 KY 330\, Owenton KY
UID:e.1786.3064
SEQUENCE:3
DTSTAMP:20260425T183101Z
URL:https://members.frankfortky.info/events/details/business-after-hours-elk-creek-winery-3064
END:VEVENT

END:VCALENDAR
