BEGIN:VCALENDAR
VERSION:2.0
PRODID:-//ChamberMaster//Event Calendar 2.0//EN
METHOD:PUBLISH
X-PUBLISHED-TTL:P3D
REFRESH-INTERVAL:P3D
CALSCALE:GREGORIAN
BEGIN:VEVENT
DTSTART:20260409T203000Z
DTEND:20260409T223000Z
X-MICROSOFT-CDO-ALLDAYEVENT:FALSE
SUMMARY:Business After Hours hosted by Frankfort Regional Medical Center
DESCRIPTION:
X-ALT-DESC;FMTTYPE=text/html:
LOCATION:Frankfort Regional Medical Center 299 King's Daughters Dr Frankfort\, KY 40601 Come join us for a Business After Hours event hosted by Frankfort Regional Medical Center\, with special guest Brittany Thomas from Network for Hope - Donate Life. There will be a special Flag raising ceremony at 5 pm!
UID:e.1786.6446
SEQUENCE:3
DTSTAMP:20260425T104650Z
URL:https://members.frankfortky.info/events/details/business-after-hours-hosted-by-frankfort-regional-medical-center-6446
END:VEVENT

END:VCALENDAR
