BEGIN:VCALENDAR
VERSION:2.0
PRODID:-//ChamberMaster//Event Calendar 2.0//EN
METHOD:PUBLISH
X-PUBLISHED-TTL:P3D
REFRESH-INTERVAL:P3D
CALSCALE:GREGORIAN
BEGIN:VEVENT
DTSTART:20190620T210000Z
DTEND:20190620T230000Z
X-MICROSOFT-CDO-ALLDAYEVENT:FALSE
SUMMARY:Business after Hours @ Villa's at Berry Hill
DESCRIPTION:Join the Frankfort Area Chamber and new member Villa's at Berry Hill for an evening of networking in a relaxed atmosphere on Thursday\, June 20\, 2019 from 5:00pm - 7:00ppm - 1124 Leawood Drive\, Frankfort\n\n\n\nAbout Villa's @ Berry Hill - \nEscape to The Villas at Berry Hill and enjoy luxurious\, maintenance free living. Our experienced team will help you each step of the way
X-ALT-DESC;FMTTYPE=text/html:Join the Frankfort Area Chamber and new member Villa&#39\;s at Berry Hill for an evening of networking in a relaxed atmosphere on Thursday\, June 20\, 2019 from 5:00pm - 7:00ppm - 1124 Leawood Drive\, Frankfort<br />\n<br />\nAbout Villa&#39\;s @ Berry Hill -&nbsp\;\n<h5 class="uabb-infobox-title" style="box-sizing: border-box\; font-family: Merriweather\, serif\; font-weight: 300\; line-height: 1.4\; color: rgb(255\, 255\, 255)\; margin: 30px 0px 10px\; font-size: 20px\; clear: both\; padding: 0px\; background-color: rgb(255\, 255\, 255)\;"><span style="font-size:11px\;"><span style="color:#000000\;"><span style="font-family:arial\;">Escape to The Villas at Berry Hill and enjoy luxurious\, maintenance free living. Our experienced team will help you each step of the way</span></span></span></h5>\n
LOCATION:1124 Leawood Drive Frankfort KY 40601
UID:e.1786.3107
SEQUENCE:3
DTSTAMP:20260425T115018Z
URL:https://members.frankfortky.info/events/details/business-after-hours-villa-s-at-berry-hill-3107
END:VEVENT

END:VCALENDAR
