BEGIN:VCALENDAR
VERSION:2.0
PRODID:-//ChamberMaster//Event Calendar 2.0//EN
METHOD:PUBLISH
X-PUBLISHED-TTL:P3D
REFRESH-INTERVAL:P3D
CALSCALE:GREGORIAN
BEGIN:VEVENT
DTSTART:20181129T220000Z
DTEND:20181130T000000Z
X-MICROSOFT-CDO-ALLDAYEVENT:FALSE
SUMMARY:Businss after Hours at Wilson Nurseries
DESCRIPTION:Join the Frankfort Area Chamber as we host Wilson Nurseries Business after Hours.\n\nSage Garden Cafe will host our evening hors d'oeuvres \n\n \n\nWe'll have some fun drawings for everyone\, watch your E-news for drawing items.
X-ALT-DESC;FMTTYPE=text/html:Join the Frankfort Area Chamber as we host Wilson Nurseries Business after Hours.<br />\nSage Garden Cafe will host our evening&nbsp\;hors d&#39\;oeuvres&nbsp\;<br />\n&nbsp\;<br />\nWe&#39\;ll have some fun drawings for everyone\, watch your E-news for drawing items.&nbsp\;
LOCATION:Wilson Nurseries\, Inc. P.O. Box 4009/3690 East-West Connector Frankfort\, KY 40604 502-223-1488 223-3159 (fax)
UID:e.1786.2709
SEQUENCE:3
DTSTAMP:20260425T230906Z
URL:https://members.frankfortky.info/events/details/businss-after-hours-at-wilson-nurseries-2709
END:VEVENT

END:VCALENDAR
