BEGIN:VCALENDAR
VERSION:2.0
PRODID:-//ChamberMaster//Event Calendar 2.0//EN
METHOD:PUBLISH
X-PUBLISHED-TTL:P3D
REFRESH-INTERVAL:P3D
CALSCALE:GREGORIAN
BEGIN:VEVENT
DTSTART;VALUE=DATE:20200128
DTEND;VALUE=DATE:20200129
TRANSP:TRANSPARENT
X-MICROSOFT-CDO-ALLDAYEVENT:TRUE
SUMMARY:Capital City River & Blues Festival
DESCRIPTION:
X-ALT-DESC;FMTTYPE=text/html:
LOCATION:Ward Oates Amphitheater 520 West Main Street Frankfort\, KY 40601
UID:e.1786.3505
SEQUENCE:3
DTSTAMP:20260424T224953Z
URL:https://members.frankfortky.info/events/details/capital-city-river-blues-festival-3505
END:VEVENT

END:VCALENDAR
