BEGIN:VCALENDAR
VERSION:2.0
PRODID:-//ChamberMaster//Event Calendar 2.0//EN
METHOD:PUBLISH
X-PUBLISHED-TTL:P3D
REFRESH-INTERVAL:P3D
CALSCALE:GREGORIAN
BEGIN:VEVENT
DTSTART:20180731T203000Z
DTEND:20180731T213000Z
X-MICROSOFT-CDO-ALLDAYEVENT:FALSE
SUMMARY:CCU Financial Fitness Workshop
DESCRIPTION:The Salvation Army\n\nPLANNED WORKSHOP FOR 2018\n\nFREE OF CHARGE\n\n\n\nJULY: 7/31/18 CCU Financial Fitness Workshop  - 4.30pm\n\n\n\nAUGUST: 8/31/18 FC Health Dept. Stress Management - 4.30pm\n\n\n\nSEPTEMBER: 9/25/18 Public Safety - 4.30pm\n\n Location: The Salvation Army\n\n       517 Greenup Avenue\n\nCall 502-227-2638 to Register. \n\nAll workshops 1- hour long
X-ALT-DESC;FMTTYPE=text/html:<strong style="color: rgb(51\, 51\, 51)\; font-family: sans-serif\, Arial\, Verdana\, &quot\;Trebuchet MS&quot\;\; font-size: 13px\;"><u><span style="font-family: arial\, sans-serif\;"><span style="font-size: 14pt\;">The Salvation Army</span></span></u></strong><br style="color: rgb(51\, 51\, 51)\; font-family: sans-serif\, Arial\, Verdana\, &quot\;Trebuchet MS&quot\;\; font-size: 13px\;" />\n<strong style="color: rgb(51\, 51\, 51)\; font-family: sans-serif\, Arial\, Verdana\, &quot\;Trebuchet MS&quot\;\; font-size: 13px\;"><u><span style="font-family: arial\, sans-serif\;"><span style="font-size: 14pt\;">PLANNED WORKSHOP FOR 2018</span></span></u></strong><br style="color: rgb(51\, 51\, 51)\; font-family: sans-serif\, Arial\, Verdana\, &quot\;Trebuchet MS&quot\;\; font-size: 13px\;" />\n<strong style="color: rgb(51\, 51\, 51)\; font-family: sans-serif\, Arial\, Verdana\, &quot\;Trebuchet MS&quot\;\; font-size: 13px\;"><u><span style="color: red\;"><span style="font-family: arial\, sans-serif\;"><span style="font-size: 14pt\;">FREE OF CHARGE</span></span></span></u></strong><br style="color: rgb(51\, 51\, 51)\; font-family: sans-serif\, Arial\, Verdana\, &quot\;Trebuchet MS&quot\;\; font-size: 13px\;" />\n<br style="color: rgb(51\, 51\, 51)\; font-family: sans-serif\, Arial\, Verdana\, &quot\;Trebuchet MS&quot\;\; font-size: 13px\;" />\n<strong style="color: rgb(51\, 51\, 51)\; font-family: sans-serif\, Arial\, Verdana\, &quot\;Trebuchet MS&quot\;\; font-size: 13px\;"><u><span style="font-family: arial\, sans-serif\;"><span style="font-size: 14pt\;">JULY:</span></span></u></strong><strong style="color: rgb(51\, 51\, 51)\; font-family: sans-serif\, Arial\, Verdana\, &quot\;Trebuchet MS&quot\;\; font-size: 13px\;"><span style="font-family: arial\, sans-serif\;"><span style="font-size: 14pt\;">&nbsp\;7/31/18&nbsp\;CCU&nbsp\;Financial Fitness Workshop &nbsp\;- 4.30pm</span></span></strong><br style="color: rgb(51\, 51\, 51)\; font-family: sans-serif\, Arial\, Verdana\, &quot\;Trebuchet MS&quot\;\; font-size: 13px\;" />\n<br style="color: rgb(51\, 51\, 51)\; font-family: sans-serif\, Arial\, Verdana\, &quot\;Trebuchet MS&quot\;\; font-size: 13px\;" />\n<strong style="color: rgb(51\, 51\, 51)\; font-family: sans-serif\, Arial\, Verdana\, &quot\;Trebuchet MS&quot\;\; font-size: 13px\;"><u><span style="font-family: arial\, sans-serif\;"><span style="font-size: 14pt\;">AUGUST:</span></span></u></strong><strong style="color: rgb(51\, 51\, 51)\; font-family: sans-serif\, Arial\, Verdana\, &quot\;Trebuchet MS&quot\;\; font-size: 13px\;"><span style="font-family: arial\, sans-serif\;"><span style="font-size: 14pt\;">&nbsp\;8/31/18 FC Health Dept. Stress Management - 4.30pm</span></span></strong><br style="color: rgb(51\, 51\, 51)\; font-family: sans-serif\, Arial\, Verdana\, &quot\;Trebuchet MS&quot\;\; font-size: 13px\;" />\n<br style="color: rgb(51\, 51\, 51)\; font-family: sans-serif\, Arial\, Verdana\, &quot\;Trebuchet MS&quot\;\; font-size: 13px\;" />\n<strong style="color: rgb(51\, 51\, 51)\; font-family: sans-serif\, Arial\, Verdana\, &quot\;Trebuchet MS&quot\;\; font-size: 13px\;"><u><span style="font-family: arial\, sans-serif\;"><span style="font-size: 14pt\;">SEPTEMBER:</span></span></u></strong><strong style="color: rgb(51\, 51\, 51)\; font-family: sans-serif\, Arial\, Verdana\, &quot\;Trebuchet MS&quot\;\; font-size: 13px\;"><span style="font-family: arial\, sans-serif\;"><span style="font-size: 14pt\;">&nbsp\;9/25/18 Public Safety - 4.30pm</span></span></strong><br style="color: rgb(51\, 51\, 51)\; font-family: sans-serif\, Arial\, Verdana\, &quot\;Trebuchet MS&quot\;\; font-size: 13px\;" />\n<span style="color: rgb(51\, 51\, 51)\; font-family: sans-serif\, Arial\, Verdana\, &quot\;Trebuchet MS&quot\;\; font-size: 13px\; background-color: rgb(255\, 255\, 255)\;">&nbsp\;</span><strong style="color: rgb(51\, 51\, 51)\; font-family: sans-serif\, Arial\, Verdana\, &quot\;Trebuchet MS&quot\;\; font-size: 13px\; text-align: center\;"><span style="font-family: arial\, sans-serif\;"><span style="font-size: 14pt\;">Location:</span></span></strong><span style="color: rgb(51\, 51\, 51)\; font-family: sans-serif\, Arial\, Verdana\, &quot\;Trebuchet MS&quot\;\; font-size: 13px\; text-align: center\;"><span style="font-family: arial\, sans-serif\;"><span style="font-size: 14pt\;">&nbsp\;The Salvation Army</span></span></span><br style="color: rgb(51\, 51\, 51)\; font-family: sans-serif\, Arial\, Verdana\, &quot\;Trebuchet MS&quot\;\; font-size: 13px\;" />\n<span style="color: rgb(51\, 51\, 51)\; font-size: 13px\; font-family: arial\, sans-serif\;"><span style="font-size: 14pt\;">&nbsp\; &nbsp\; &nbsp\; &nbsp\;517&nbsp\;Greenup&nbsp\;Avenue</span></span><br style="color: rgb(51\, 51\, 51)\; font-family: sans-serif\, Arial\, Verdana\, &quot\;Trebuchet MS&quot\;\; font-size: 13px\;" />\n<span style="color: rgb(51\, 51\, 51)\; font-size: 13px\; font-family: arial\, sans-serif\;"><span style="font-size: 14pt\;">Call 502-227-2638 to Register.&nbsp\;</span></span><br style="color: rgb(51\, 51\, 51)\; font-family: sans-serif\, Arial\, Verdana\, &quot\;Trebuchet MS&quot\;\; font-size: 13px\;" />\n<span style="color: rgb(51\, 51\, 51)\; font-size: 13px\; font-family: arial\, sans-serif\;"><span style="font-size: 14pt\;">All workshops 1- hour long</span></span>
LOCATION:The Salvation Army 517 Greenup Avenue Frankfort
UID:e.1786.2754
SEQUENCE:3
DTSTAMP:20260426T041151Z
URL:https://members.frankfortky.info/events/details/ccu-financial-fitness-workshop-2754
END:VEVENT

END:VCALENDAR
