BEGIN:VCALENDAR
VERSION:2.0
PRODID:-//ChamberMaster//Event Calendar 2.0//EN
METHOD:PUBLISH
X-PUBLISHED-TTL:P3D
REFRESH-INTERVAL:P3D
CALSCALE:GREGORIAN
BEGIN:VEVENT
DTSTART:20190402T210000Z
DTEND:20190402T230000Z
X-MICROSOFT-CDO-ALLDAYEVENT:FALSE
SUMMARY:Chamber April Business After Hours - Hosted by Capital Plaza & Canoe KY
DESCRIPTION:Join Us for an evening of business networking while taking a scenic River Boat tour hosted by Canoe KY and enjoy delicious appetizers and spirit/wine sampling by the Capital Plaza Hotel.
X-ALT-DESC;FMTTYPE=text/html:<span style="font-size: 14px\;">Join Us for an evening of business networking&nbsp\;while taking&nbsp\;a scenic&nbsp\;River Boat tour hosted by Canoe KY and enjoy delicious appetizers and spirit/wine sampling by the Capital Plaza Hotel.</span>
LOCATION:Capital Plaza Hotel
UID:e.1786.3084
SEQUENCE:3
DTSTAMP:20260425T133629Z
URL:https://members.frankfortky.info/events/details/chamber-april-business-after-hours-hosted-by-capital-plaza-canoe-ky-3084
END:VEVENT

END:VCALENDAR
