BEGIN:VCALENDAR
VERSION:2.0
PRODID:-//ChamberMaster//Event Calendar 2.0//EN
METHOD:PUBLISH
X-PUBLISHED-TTL:P3D
REFRESH-INTERVAL:P3D
CALSCALE:GREGORIAN
BEGIN:VEVENT
DTSTART:20180927T180000Z
DTEND:20180927T190000Z
X-MICROSOFT-CDO-ALLDAYEVENT:FALSE
SUMMARY:Chamber Business Advocacy Meeting
DESCRIPTION:Chamber members are encouraged to join the Frankfort Area Chamber Business Advocacy committee and let your voices be heard.  This committee will set the Public Policy Legislative paper for the 2019 General Assembly and work on issues facing business in Frankfort and Franklin County.
X-ALT-DESC;FMTTYPE=text/html:Chamber members are encouraged to join the Frankfort Area Chamber Business Advocacy committee and let your voices be heard.&nbsp\; This committee will set the Public Policy Legislative paper for the 2019 General Assembly and work on issues facing business in Frankfort and Franklin County.&nbsp\;&nbsp\;
LOCATION:Chamber office\, 100 Capital Avenue\, Frankfort
UID:e.1786.3024
SEQUENCE:3
DTSTAMP:20260426T024713Z
URL:https://members.frankfortky.info/events/details/chamber-business-advocacy-meeting-3024
END:VEVENT

END:VCALENDAR
