BEGIN:VCALENDAR
VERSION:2.0
PRODID:-//ChamberMaster//Event Calendar 2.0//EN
METHOD:PUBLISH
X-PUBLISHED-TTL:P3D
REFRESH-INTERVAL:P3D
CALSCALE:GREGORIAN
BEGIN:VEVENT
DTSTART:20260530T170000Z
DTEND:20260530T200000Z
X-MICROSOFT-CDO-ALLDAYEVENT:FALSE
SUMMARY:Check Me Out @ LIFE HOUSE FOR ANIMALS
DESCRIPTION:Come to our shelter during our "check me out" program hours\, fill out a liability and info form\, and take an adoptable dog guest with you to enjoy during that time frame. The LIFE House For Animals will provide you with dog supplies to take with you. FREE EVENT! ** Sponsored by David Dooley\, Realtor **
X-ALT-DESC;FMTTYPE=text/html:Come to our shelter during our &ldquo\;check me out&rdquo\; program hours\, fill out a liability and info form\, and take an adoptable dog guest with you to enjoy during that time frame. The LIFE House For Animals will provide you with dog supplies to take with you. FREE EVENT! ** Sponsored by David Dooley\, Realtor **
LOCATION:LIFE House For Animals 14 Fido Ct Frankfort\, KY 40601
UID:e.1786.6583
SEQUENCE:3
DTSTAMP:20260423T141415Z
URL:https://members.frankfortky.info/events/details/check-me-out-life-house-for-animals-05-30-2026-6583
END:VEVENT

END:VCALENDAR
