BEGIN:VCALENDAR
VERSION:2.0
PRODID:-//ChamberMaster//Event Calendar 2.0//EN
METHOD:PUBLISH
X-PUBLISHED-TTL:P3D
REFRESH-INTERVAL:P3D
CALSCALE:GREGORIAN
BEGIN:VEVENT
DTSTART:20260514T220000Z
DTEND:20260515T000000Z
X-MICROSOFT-CDO-ALLDAYEVENT:FALSE
SUMMARY:"Cheers For Charity" benefiting LIFE House For Animals
DESCRIPTION:You're Invited! Come hang out with some cool LIFE House volunteers and supporters and some even COOLER adoptable dogs at the "Cheers For Charity" night at Sig Luscher Brewery. Date: Thursday\, May 14th Time: 6-8 PM Location: @ Sig's\, 221 Mero St\, Frankfort\, KY 40601 10% of the nights profits will go to benefit the LIFE House For Animals. We are accepting donations to our Emergency Pet Food Pantry that night as well. Name brand dog food\, name brand cat food\, and cat litter are our biggest needs.
X-ALT-DESC;FMTTYPE=text/html:You&#39\;re Invited! Come hang out with some cool LIFE House volunteers and supporters and some even COOLER adoptable dogs at the &quot\;Cheers For Charity&quot\; night at Sig Luscher Brewery. Date: Thursday\, May 14th Time: 6-8 PM Location: @ Sig&#39\;s\, 221 Mero St\, Frankfort\, KY 40601 10% of the nights profits will go to benefit the LIFE House For Animals. We are accepting donations to our Emergency Pet Food Pantry that night as well. Name brand dog food\, name brand cat food\, and cat litter are our biggest needs.
LOCATION:Sig Luscher Brewery 221 Mero St Frankfort\, KY 40601
UID:e.1786.6584
SEQUENCE:3
DTSTAMP:20260423T141553Z
URL:https://members.frankfortky.info/events/details/cheers-for-charity-benefiting-life-house-for-animals-6584
END:VEVENT

END:VCALENDAR
