BEGIN:VCALENDAR
VERSION:2.0
PRODID:-//ChamberMaster//Event Calendar 2.0//EN
METHOD:PUBLISH
X-PUBLISHED-TTL:P3D
REFRESH-INTERVAL:P3D
CALSCALE:GREGORIAN
BEGIN:VEVENT
DTSTART:20190603T130000Z
DTEND:20190607T160000Z
X-MICROSOFT-CDO-ALLDAYEVENT:FALSE
SUMMARY:Circle Play Forest School Camp
DESCRIPTION:Frankfort School of Ballet's Circle Play Forest School is a week-long day camp for ages 3-8. Enjoy a magical and delightful summer outdoors at Fort Hill Park with the Frankfort School of Ballet's Circle Play teachers. We will share songs\, stories\, dance\, art with materials from nature\, and scientific observation of the natural ecosystem. Develop a love and respect for nature\, and make friends under the loving care of our wise and gentle teachers.
X-ALT-DESC;FMTTYPE=text/html:Frankfort School of Ballet&#39\;s Circle Play Forest School is a week-long day camp for ages 3-8. Enjoy a magical and delightful summer outdoors at Fort Hill Park with the Frankfort School of Ballet&rsquo\;s Circle Play teachers. We will share songs\, stories\, dance\, art with materials from nature\, and scientific observation of the natural ecosystem. Develop a love and respect for nature\, and make friends under the loving care of our wise and gentle teachers.
LOCATION:Leslie Morris Park on Fort Hill
UID:e.1786.3098
SEQUENCE:3
DTSTAMP:20260425T113854Z
URL:https://members.frankfortky.info/events/details/circle-play-forest-school-camp-3098
END:VEVENT

END:VCALENDAR
