BEGIN:VCALENDAR
VERSION:2.0
PRODID:-//ChamberMaster//Event Calendar 2.0//EN
METHOD:PUBLISH
X-PUBLISHED-TTL:P3D
REFRESH-INTERVAL:P3D
CALSCALE:GREGORIAN
BEGIN:VEVENT
DTSTART:20190618T010000Z
DTEND:20190621T200000Z
X-MICROSOFT-CDO-ALLDAYEVENT:FALSE
SUMMARY:Circus Camp
DESCRIPTION:What is the only thing more fun than going to the circus? Being in the circus! At FSB's Circus Camp\, you will get experience in juggling\, magic\, tightrope walking\, clowning\, tumbling\, partner acrobatics\, gentle animal training\, physical comedy\, hula hooping\, balance board\, bed of nails\, dance\, and circus flow arts. Develop coordination\, memorization skills\, balance\, stage presence\, and more!
X-ALT-DESC;FMTTYPE=text/html:What is the only thing more fun than going to the circus? Being in the circus! At FSB&rsquo\;s Circus Camp\, you will get experience in juggling\, magic\, tightrope walking\, clowning\, tumbling\, partner acrobatics\, gentle animal training\, physical comedy\, hula hooping\, balance board\, bed of nails\, dance\, and circus flow arts. Develop coordination\, memorization skills\, balance\, stage presence\, and more!
LOCATION:Frankfort School of Ballet 340 St. Clair St.
UID:e.1786.3095
SEQUENCE:3
DTSTAMP:20260425T114027Z
URL:https://members.frankfortky.info/events/details/circus-camp-06-17-2019-3095
END:VEVENT

END:VCALENDAR
