BEGIN:VCALENDAR
VERSION:2.0
PRODID:-//ChamberMaster//Event Calendar 2.0//EN
METHOD:PUBLISH
X-PUBLISHED-TTL:P3D
REFRESH-INTERVAL:P3D
CALSCALE:GREGORIAN
BEGIN:VEVENT
DTSTART:20220617T120000Z
DTEND:20220617T163000Z
X-MICROSOFT-CDO-ALLDAYEVENT:FALSE
SUMMARY:Community Blood Drive
DESCRIPTION:The American Red Cross is hosting a Community Blood Drive\, located at the Hiram Lodge #4 Community Hall at 308 Ann Street.\n\n8:00 am - 12:30 pm
X-ALT-DESC;FMTTYPE=text/html:The American Red Cross is hosting a Community Blood Drive\, located at the Hiram Lodge #4 Community Hall at 308 Ann Street.<br />\n8:00 am - 12:30 pm
LOCATION:Hiram Lodge #4\, Community Hall 308 Ann Street Frankfort\, KY
UID:e.1786.3914
SEQUENCE:3
DTSTAMP:20260422T191800Z
URL:https://members.frankfortky.info/events/details/community-blood-drive-3914
END:VEVENT

END:VCALENDAR
