BEGIN:VCALENDAR
VERSION:2.0
PRODID:-//ChamberMaster//Event Calendar 2.0//EN
METHOD:PUBLISH
X-PUBLISHED-TTL:P3D
REFRESH-INTERVAL:P3D
CALSCALE:GREGORIAN
BEGIN:VEVENT
DTSTART:20151124T233000Z
DTEND:20151125T010000Z
X-MICROSOFT-CDO-ALLDAYEVENT:FALSE
SUMMARY:Conversation\, Compassion\, & Choices
DESCRIPTION:Conversation\, Compassion\, and Choices: A Question & Answer Forum on Advance Directives. Dr. Kimberly Bell\, Associate Medical Director at Hospice of the Bluegrass\, will discuss how to have a conversation about advance directives.\n\nFor more information. please contact Diane Dehoney
X-ALT-DESC;FMTTYPE=text/html:Conversation\,&nbsp\;Compassion\, and Choices: A Question &amp\; Answer Forum on Advance Directives. Dr. Kimberly Bell\, Associate Medical Director at Hospice of the Bluegrass\, will discuss how to have a conversation about advance directives.<br />\nFor more information. please contact Diane Dehoney
LOCATION:Library Community Room
UID:e.1786.733
SEQUENCE:3
DTSTAMP:20260423T233216Z
URL:https://members.frankfortky.info/events/details/conversation-compassion-choices-11-24-2015-733
END:VEVENT

END:VCALENDAR
