BEGIN:VCALENDAR
VERSION:2.0
PRODID:-//ChamberMaster//Event Calendar 2.0//EN
METHOD:PUBLISH
X-PUBLISHED-TTL:P3D
REFRESH-INTERVAL:P3D
CALSCALE:GREGORIAN
BEGIN:VEVENT
DTSTART:20200324T123000Z
DTEND:20200324T160000Z
X-MICROSOFT-CDO-ALLDAYEVENT:FALSE
SUMMARY:Customer Service Seminar
DESCRIPTION:If you've been a manager for more than five minutes you know that people problems are the biggest problems\, but now you can\n\n           * Hire With Confidence\,\n\n           * Fire Without Fear\,\n\n           * Tame Toxic Employees \n\n  * Put Your Team on the Fast Track to Record-Shattering Success\n\n \n\nIf you're trying to manage people without the skills I'll give you in this seminar\, you're risking your career\, your health and your sanity\n\n \n\nThe best managers have learned how to deal with problems without missing a beat.  Now you can too!\n\n \n\nIn this short\, intensive and enjoyable seminar\, you'll learn how to effortlessly:\n\nFix bad attitudes\n\nTwo simple things that actually motivate people more than money.\n\nA quick and easy action you can take to end gossip\n\nHow to find people who truly WANT to work\n\nPlus much more  .\n\n \n\nAs a special bonus\, I'll also give you the tools you need to find and hire the very best employees. These are the strategies the big headhunters don't want you to know   roadmaps to where the bright\, motivated people you need are hiding.
X-ALT-DESC;FMTTYPE=text/html:<span style="language:en-US\;"><span style="font-family:calibri\;"><span style="font-size:11.0pt\;">If you&rsquo\;ve been a manager for more than five minutes </span></span></span><span style="language:en-US\;"><span style="font-family:calibri\;"><span style="font-size:11.0pt\;">you know that people problems are the biggest problems\, but now you can</span></span></span><br />\n&nbsp\; &nbsp\; &nbsp\; &nbsp\; &nbsp\; &nbsp\;<span style="font-weight:bold\;"><span style="font-size:16pt\;">* Hire With Confidence\,</span></span><br />\n<span style="font-weight:bold\;language:en-US\;"><span style="font-family:calibri\;"><span style="font-size:16.0pt\;">&nbsp\; &nbsp\;&nbsp\;&nbsp\;&nbsp\;&nbsp\;&nbsp\;&nbsp\;&nbsp\; * Fire Without Fear\,</span></span></span><br />\n<span style="font-weight:bold\;language:en-US\;"><span style="font-family:calibri\;"><span style="font-size:16.0pt\;">&nbsp\; &nbsp\;&nbsp\;&nbsp\;&nbsp\;&nbsp\;&nbsp\;&nbsp\;&nbsp\; * Tame Toxic Employees </span></span></span><br />\n<span style="font-weight:bold\;language:en-US\;"><span style="font-family:calibri\;"><span style="font-size:16.0pt\;">&nbsp\; * Put Your Team on the Fast Track to Record-Shattering Success</span></span></span><br />\n&nbsp\;<br />\n<span style="language:en-US\;"><span style="font-family:calibri\;"><span style="font-size:11.0pt\;">If you&#39\;re trying to manage people without the skills I&#39\;ll give you in this seminar\, </span></span></span><span style="language:en-US\;"><span style="font-family:calibri\;"><span style="font-size:11.0pt\;">you&#39\;re risking your career\, your health and your sanity</span></span></span><br />\n&nbsp\;<br />\n<span style="language:en-US\;"><span style="font-family:calibri\;"><span style="font-size:11.0pt\;">The best managers have learned how to deal with problems without missing a beat.&nbsp\; Now you can too!</span></span></span><br />\n&nbsp\;<br />\n<span style="language:en-US\;"><span style="font-family:calibri\;"><span style="font-size:11.0pt\;">In this short\, intensive and enjoyable seminar\, you&rsquo\;ll learn how to effortlessly:</span></span></span><br />\n<span style="language:en-US\;"><span style="font-family:calibri\;"><span style="font-size:11.0pt\;">Fix bad attitudes</span></span></span><br />\n<span style="language:en-US\;"><span style="font-family:calibri\;"><span style="font-size:11.0pt\;">Two simple things that actually motivate people more than money.</span></span></span><br />\n<span style="language:en-US\;"><span style="font-family:calibri\;"><span style="font-size:11.0pt\;">A quick and easy action you can take to end gossip</span></span></span><br />\n<span style="language:en-US\;"><span style="font-family:calibri\;"><span style="font-size:11.0pt\;">How to find people who truly WANT to work</span></span></span><br />\n<span style="language:en-US\;"><span style="font-family:calibri\;"><span style="font-size:11.0pt\;">Plus much more &hellip\;.</span></span></span><br />\n&nbsp\;<br />\n<span style="language:en-US\;"><span style="font-family:calibri\;"><span style="font-size:11.0pt\;">As a special bonus\, I&#39\;ll also give you the tools you need to find and hire the very best employees. These are the strategies the big headhunters don&#39\;t want you to know &ndash\; roadmaps to where the bright\, motivated people you need are hiding.</span></span></span><br />\n&nbsp\;<br />\n<br />\n&nbsp\;<br />\n&nbsp\;
LOCATION:Capital Plaza Hotel 405 Wilkinson Blvd.
UID:e.1786.192
SEQUENCE:3
DTSTAMP:20260424T191150Z
URL:https://members.frankfortky.info/events/details/customer-service-seminar-192
END:VEVENT

END:VCALENDAR
