BEGIN:VCALENDAR
VERSION:2.0
PRODID:-//ChamberMaster//Event Calendar 2.0//EN
METHOD:PUBLISH
X-PUBLISHED-TTL:P3D
REFRESH-INTERVAL:P3D
CALSCALE:GREGORIAN
BEGIN:VEVENT
DTSTART:20181129T170000Z
DTEND:20181129T180000Z
X-MICROSOFT-CDO-ALLDAYEVENT:FALSE
SUMMARY:CyberSecurtity - How Safe are you Online?
DESCRIPTION:Training Topics: Technology\n\nDescription: Presenter Dr. Michael Ramage\, Director\, Center for Telecommunications Systems Management (TSM)\, Murray State University. Whether you are a small business\, corporate office\, local restaurant\, healthcare provider\, or government agency\, your organization's online safety and security are a responsibility we all share. The Frankfort Area Chamber of Commerce\, Bluegrass Small Business Development Center and U.S. Small Business Administration are offering a Cybersecurity "Brown Bag" event November 29 from 12:00   1:00 pm ET. Subject matter expert Dr. Michael Ramage will focus on cybersecurity awareness\, emphasizing risk management and how to protect your organization\, employees and customers against many cybersecurity threats. Participants can bring a lunch and will learn five actions to take to better themselves and their organizations from online threats.\n\nInstructions: Please call the Frankfort Chamber of Commerce to register for this event: 502-223-8261
X-ALT-DESC;FMTTYPE=text/html:<label style="font-size: 16px\; font-variant-numeric: normal\; font-variant-east-asian: normal\; font-weight: 700\; line-height: 20px\;">Training Topics:</label><span style="font-family: Lato\, Arial\, Helvetica\, sans-serif\; font-size: 16px\; font-variant-numeric: normal\; font-variant-east-asian: normal\;"> Technology</span><br style="font-size: 16px\; font-variant-numeric: normal\; font-variant-east-asian: normal\; height: auto\; margin: 0px\; padding: 0px\; width: auto\;" />\n<label style="font-size: 16px\; font-variant-numeric: normal\; font-variant-east-asian: normal\; font-weight: 700\; line-height: 20px\;">Description: Presenter Dr. Michael Ramage\, Director\, Center for Telecommunications Systems Management (TSM)\, Murray State University. Whether you are a small business\, corporate office\, local restaurant\, healthcare provider\, or government agency\, your organization&rsquo\;s online safety and security are a responsibility we all share. The Frankfort Area Chamber of Commerce\, Bluegrass Small Business Development Center and U.S. Small Business Administration are offering a Cybersecurity &ldquo\;Brown Bag&rdquo\; event November 29 from 12:00 &ndash\; 1:00 pm ET. Subject matter expert Dr. Michael Ramage will focus on cybersecurity awareness\, emphasizing risk management and how to protect your organization\, employees and customers against many cybersecurity threats. Participants can bring a lunch and will learn five actions to take to better themselves and their organizations from online threats.</label><br />\n<label style="font-size: 16px\; font-variant-numeric: normal\; font-variant-east-asian: normal\; font-weight: 700\; line-height: 20px\;">Instructions:</label><span style="font-size:14px\;"><span style="font-family: Lato\, Arial\, Helvetica\, sans-serif\; font-variant-numeric: normal\; font-variant-east-asian: normal\;">&nbsp\;Please call the Frankfort Chamber of Commerce to register for this event: 502-223-8261&nbsp\;</span></span>
LOCATION:In Person Webinar held at Paul Sawyier Public Library 319 Wapping Street\, Frankfort View Online at Webinar: https://kysbdc.ecenterdirect.com/events/8895
UID:e.1786.3055
SEQUENCE:3
DTSTAMP:20260425T215113Z
URL:https://members.frankfortky.info/events/details/cybersecurtity-how-safe-are-you-online-3055
END:VEVENT

END:VCALENDAR
