BEGIN:VCALENDAR
VERSION:2.0
PRODID:-//ChamberMaster//Event Calendar 2.0//EN
METHOD:PUBLISH
X-PUBLISHED-TTL:P3D
REFRESH-INTERVAL:P3D
CALSCALE:GREGORIAN
BEGIN:VEVENT
DTSTART:20260618T140000Z
DTEND:20260618T160000Z
X-MICROSOFT-CDO-ALLDAYEVENT:FALSE
SUMMARY:Doggy Book Club (6/18) sponsored by First Federal
DESCRIPTION:Come join us on Thursdays in June and July at our shelter (14 Fido Ct) from 10 AM - 12noon for our summer Doggy Book Club! June Dates: - 6/4\, 6/11\, 6/18\, 6/25 July Dates: - 7/2\, 7/9\, 7/16\, 7/23\, 7/30 Volunteers will lead kids in a craft activity together for the first hour and then kids will break up to read to dogs (and cats) in their kennels. This gives kids a chance to practice their reading skills with a non-judgmental\, friendly companion. Plus it helps our dogs and cats socialize to get them ready for adoption! Kids can bring their own books or we will have a small selection to choose from. - The event is ideal for kids 7-11 but this isn't a strict age range. - All kids must have an adult accompany them and stay for the program. - The event is FREE. - No RSVP is required - just show up! ** Sponsored By: First Federal Savings Bank **
X-ALT-DESC;FMTTYPE=text/html:Come join us on Thursdays in June and July at our shelter (14 Fido Ct) from 10 AM - 12noon for our summer Doggy Book Club! June Dates: - 6/4\, 6/11\, 6/18\, 6/25 July Dates: - 7/2\, 7/9\, 7/16\, 7/23\, 7/30 Volunteers will lead kids in a craft activity together for the first hour and then kids will break up to read to dogs (and cats) in their kennels. This gives kids a chance to practice their reading skills with a non-judgmental\, friendly companion. Plus it helps our dogs and cats socialize to get them ready for adoption! Kids can bring their own books or we will have a small selection to choose from. - The event is ideal for kids 7-11 but this isn&#39\;t a strict age range. - All kids must have an adult accompany them and stay for the program. - The event is FREE. - No RSVP is required - just show up! ** Sponsored By: First Federal Savings Bank **
LOCATION:LIFE House For Animals 14 Fido Ct Frankfort\, KY 40601
UID:e.1786.6600
SEQUENCE:3
DTSTAMP:20260423T122220Z
URL:https://members.frankfortky.info/events/details/doggy-book-club-6-18-sponsored-by-first-federal-6600
END:VEVENT

END:VCALENDAR
