BEGIN:VCALENDAR
VERSION:2.0
PRODID:-//ChamberMaster//Event Calendar 2.0//EN
METHOD:PUBLISH
X-PUBLISHED-TTL:P3D
REFRESH-INTERVAL:P3D
CALSCALE:GREGORIAN
BEGIN:VEVENT
DTSTART:20150213T220000Z
DTEND:20150214T010000Z
X-MICROSOFT-CDO-ALLDAYEVENT:FALSE
SUMMARY:Downtown Art Walk
DESCRIPTION:Georgene Bryant's birdhouses will be on display from 5pm to 8pm. (The birdhouses will be on display all day for those who cannot attend the evening walk.)
X-ALT-DESC;FMTTYPE=text/html:Georgene&nbsp\;Bryant&#39\;s birdhouses will be on display from 5pm to 8pm. (The birdhouses will be on display all day for those who cannot attend the evening walk.)
LOCATION:downtown Frankfort Frankfort\, KY
UID:e.1786.82
SEQUENCE:3
DTSTAMP:20260421T063648Z
URL:https://members.frankfortky.info/events/details/downtown-art-walk-02-13-2015-82
END:VEVENT

END:VCALENDAR
