BEGIN:VCALENDAR
VERSION:2.0
PRODID:-//ChamberMaster//Event Calendar 2.0//EN
METHOD:PUBLISH
X-PUBLISHED-TTL:P3D
REFRESH-INTERVAL:P3D
CALSCALE:GREGORIAN
BEGIN:VEVENT
DTSTART:20200604T180000Z
DTEND:20200604T190000Z
X-MICROSOFT-CDO-ALLDAYEVENT:FALSE
SUMMARY:Election Need to Know Webinar
DESCRIPTION:On June 2\, 2020 at 2:00pm the Chamber will host a Virtual Special \n\nGovernmental Affairs Webinar with Secretary of State Mike Adams  and Franklin County Clerk Jeff Hancock who will Discuss Additional Voting \n\nOptions for Upcoming Primary Election. \n\n \n\n Frankfort Area Chamber of Commerce members and residents are invited to join our webinar on June 2\, 2020 beginning at 2:00pm..  Both elected officials are charged with expanding voting      options\, maintaining public safety while continuing to ensure the integrity of the election process.  Both will explain what you need to know to cast your ballot in the upcoming election.
X-ALT-DESC;FMTTYPE=text/html:<span style="language:en-US\;"><span style="font-family:calibri\;"><span style="font-size:14.0pt\;">On </span></span></span><span style="font-weight:bold\;language:en-US\;"><span style="font-family:calibri\;"><span style="font-size:14.0pt\;">June 2\, 2020 at 2:00pm</span></span></span><span style="language:en-US\;"><span style="font-family:calibri\;"><span style="font-size:14.0pt\;"> the Chamber will host a </span></span></span><span style="font-weight:bold\;language:en-US\;"><span style="font-family:calibri\;"><span style="font-size:14.0pt\;">Virtual Special </span></span></span><br />\n<span style="font-weight:bold\;language:en-US\;"><span style="font-family:calibri\;"><span style="font-size:14.0pt\;">Governmental Affairs Webinar with Secretary of State Mike Adams&nbsp\; and Franklin County Clerk Jeff Hancock </span></span></span><span style="language:en-US\;"><span style="color:black\;"><span style="font-family:calibri\;"><span style="font-size:14.0pt\;">who will Discuss Additional Voting </span></span></span></span><br />\n<span style="language:en-US\;"><span style="color:black\;"><span style="font-family:calibri\;"><span style="font-size:14.0pt\;">Options for Upcoming Primary Election.&nbsp\;</span></span></span></span><br />\n&nbsp\;<br />\n<span style="language:en-US\;"><span style="color:black\;"><span style="font-family:calibri\;"><span style="font-size:14.0pt\;">&nbsp\;Frankfort Area Chamber of Commerce members and residents are invited to join our webinar on June 2\, 2020 beginning at 2:00pm..&nbsp\; Both elected officials are charged with expanding voting&nbsp\;&nbsp\;&nbsp\;&nbsp\;&nbsp\; options\, maintaining public safety while continuing to ensure the integrity of the election process. &nbsp\;Both will explain what you need to know to cast your ballot in the upcoming election.</span></span></span></span><br />\n&nbsp\;
LOCATION:Zoom meeting - email chamber@frankfortky.info to confirm reservation and receive ZOOM login
UID:e.1786.3542
SEQUENCE:3
DTSTAMP:20260424T152023Z
URL:https://members.frankfortky.info/events/details/election-need-to-know-webinar-3542
END:VEVENT

END:VCALENDAR
