BEGIN:VCALENDAR
VERSION:2.0
PRODID:-//ChamberMaster//Event Calendar 2.0//EN
METHOD:PUBLISH
X-PUBLISHED-TTL:P3D
REFRESH-INTERVAL:P3D
CALSCALE:GREGORIAN
BEGIN:VEVENT
DTSTART:20181005T150000Z
DTEND:20181005T160000Z
X-MICROSOFT-CDO-ALLDAYEVENT:FALSE
SUMMARY:Elk Feeding
DESCRIPTION:Enjoy a close up view of the elk herd and learn more about these majestic animals!
X-ALT-DESC;FMTTYPE=text/html:Enjoy a close up view of the elk herd and learn more about these majestic animals!
LOCATION:Salato Wildlife Education Center 1 Sportsman's Lane Frankfort\, KY 40601
UID:e.1786.3042
SEQUENCE:3
DTSTAMP:20260425T230427Z
URL:https://members.frankfortky.info/events/details/elk-feeding-3042
END:VEVENT

END:VCALENDAR
