BEGIN:VCALENDAR
VERSION:2.0
PRODID:-//ChamberMaster//Event Calendar 2.0//EN
METHOD:PUBLISH
X-PUBLISHED-TTL:P3D
REFRESH-INTERVAL:P3D
CALSCALE:GREGORIAN
BEGIN:VEVENT
DTSTART:20240620T200000Z
DTEND:20240621T000000Z
X-MICROSOFT-CDO-ALLDAYEVENT:FALSE
SUMMARY:Emerging Leaders - volunteer for Kiwanis Longest Day Of Play
DESCRIPTION:
X-ALT-DESC;FMTTYPE=text/html:
LOCATION:Emerging Leaders register to volunteer on Thursday\, June 20\, 2024 from 4 PM - 8 PM at Juniper Hill Park the northern hemisphere will be at its maximum tilt towards the sun\, keeping the sun in the sky for around 15 hours. This is a FREE event to the public and features games\, activities\, hot dogs\, and more! Longest Day of Play Volunteer Sign-Up Sheet Thursday\, June 20th\, 4:30pm-7:00pm/Pool 7:00pm-9:00pm Please list Name\, Phone number and email address Registration Table: 1. Jennifer Mullins 2. Diana Peters 3. Novajean Monroe 4. Golf Cart Drivers: 1. Tommy Haynes 2. Scott Tippett 3. Tim Reynolds Parking Lot: 1. Sheriff Chris Quire 2. Chief of Police Dustin Bowman Vendor Parking Gate: lower and upper part of hill (needs to be at gate at 2pm) 1. Susan Jeffers 2. Lynn Cruz Hot dog Rollers: 1. Taylor Carter 2. Gene Harrell 3. 4. 5. 6. Grilling/ Pop Up Tents (Be at Juniper Hill @ 3:30pm) 1. Rene Rodriguez 2. Warner Caines 3.Jim Griffin 4. 5. 6. Cooler for Kiwanis Volunteers: 1. Miranda Penn Water Station: 1. JT Silence 2. Frankfort Plant Board Food/Condiments Station: 1. Randall Thomas 2. 3. Crowd Monitors: 1. Chuck Fletcher 2. Andrew Kent (early) 3. Photographer: 1. Nancy Royden Fire Truck/EMS: Ray Kenny Pool: 1. Evan Chrisman 2. Chris Cribbs 3. 4. DJ: 1. Jason Miller Sit Up Before Event-2pm: 1. 2. 3. 4. Clean Up After Event-6:45pm: 1. 2. 3. 4.
UID:e.1786.4374
SEQUENCE:3
DTSTAMP:20260421T230551Z
URL:https://members.frankfortky.info/events/details/emerging-leaders-volunteer-for-kiwanis-longest-day-of-play-06-20-2024-4374
END:VEVENT

END:VCALENDAR
