BEGIN:VCALENDAR
VERSION:2.0
PRODID:-//ChamberMaster//Event Calendar 2.0//EN
METHOD:PUBLISH
X-PUBLISHED-TTL:P3D
REFRESH-INTERVAL:P3D
CALSCALE:GREGORIAN
BEGIN:VEVENT
DTSTART:20240814T210000Z
DTEND:20240814T223000Z
X-MICROSOFT-CDO-ALLDAYEVENT:FALSE
SUMMARY:empowHER at the Dock: A River Cafe
DESCRIPTION:
X-ALT-DESC;FMTTYPE=text/html:
LOCATION:Hosted at: The Dock: A River Cafe 101 Riverboat Landing Frankfort\, KY 40601 (behind the Library down by the River!)
UID:e.1786.5191
SEQUENCE:3
DTSTAMP:20260419T133139Z
URL:https://members.frankfortky.info/events/details/empowher-at-the-dock-a-river-cafe-5191
END:VEVENT

END:VCALENDAR
