BEGIN:VCALENDAR
VERSION:2.0
PRODID:-//ChamberMaster//Event Calendar 2.0//EN
METHOD:PUBLISH
X-PUBLISHED-TTL:P3D
REFRESH-INTERVAL:P3D
CALSCALE:GREGORIAN
BEGIN:VEVENT
DTSTART:20180914T150000Z
DTEND:20180914T163000Z
X-MICROSOFT-CDO-ALLDAYEVENT:FALSE
SUMMARY:ESGR Employment Luncheon
DESCRIPTION:You are INVITED to a\n\nBriefing with the Boss and LUNCH on US!\n\nSeptember 14\, 2018 at 11 a.m.\n\nCapital Plaza Hotel\,\n\nFrankfort\, Kentucky\n\nPlease come join us for a free lunch provided by The Employer Support of the Guard and Reserve (ESGR) and participate in discussions about connecting with employment services (ESGR)\, hiring service members (Hire KY app)\, and Kentucky's Apprenticeship program.\n\nThe first 60 are guaranteed a place at the table to hear what the Department of Defense and Kentucky Education and Workforce Cabinet are doing for you!\n\nRSVP NO LATER THAN AUGUST 31 to reserve your spot NOW!\n\nCall or email Terri at 502-330-1732 or TerriBradshaw@kycapitaldevelopment.com
X-ALT-DESC;FMTTYPE=text/html:<strong><span style="font-size:22.0pt\;">You are INVITED to a</span></strong><br />\n<strong><span style="font-size:22.0pt\;">Briefing with the Boss and LUNCH on US!</span></strong><br />\n<strong><span style="font-size:22.0pt\;">September 14</span></strong><strong><span style="font-size:13.0pt\;">\, </span></strong><strong><span style="font-size:22.0pt\;">2018 at 11 a.m.</span></strong><br />\n<strong><span style="font-size:22.0pt\;">Capital Plaza Hotel\,</span></strong><br />\n<strong><span style="font-size:22.0pt\;">Frankfort\, Kentucky</span></strong><br />\n<strong><em><span style="font-family:calibri\,sans-serif\;"><span style="font-size:16.0pt\;">Please come join us for a free lunch provided by The Employer Support of the Guard and Reserve (ESGR) and participate in discussions about connecting with employment services (ESGR)\, hiring service members (Hire KY app)\, and Kentucky&rsquo\;s Apprenticeship program.</span></span></em></strong><br />\n<strong><em><span style="font-family:calibri\,sans-serif\;"><span style="font-size:16.0pt\;">The first 60 are guaranteed a place at the table to hear what the Department of Defense and Kentucky Education and Workforce Cabinet are doing for you!</span></span></em></strong><br />\n<strong><em><span style="font-size:16.0pt\;">RSVP NO LATER THAN AUGUST 31 to reserve your spot NOW!</span></em></strong><br />\n<strong><em><span style="font-size:16.0pt\;">Call or email Terri at 502-330-1732 or <a href="mailto:TerriBradshaw@kycapitaldevelopment.com">TerriBradshaw@kycapitaldevelopment.com</a> </span></em></strong>
LOCATION:Capital Plaza Hotel 405 Wilkinson Blvd. Frankfort
UID:e.1786.3025
SEQUENCE:3
DTSTAMP:20260426T005851Z
URL:https://members.frankfortky.info/events/details/esgr-employment-luncheon-3025
END:VEVENT

END:VCALENDAR
