BEGIN:VCALENDAR
VERSION:2.0
PRODID:-//ChamberMaster//Event Calendar 2.0//EN
METHOD:PUBLISH
X-PUBLISHED-TTL:P3D
REFRESH-INTERVAL:P3D
CALSCALE:GREGORIAN
BEGIN:VEVENT
DTSTART:20190624T130000Z
DTEND:20190628T160000Z
X-MICROSOFT-CDO-ALLDAYEVENT:FALSE
SUMMARY:Fairy Ballet Day Camp
DESCRIPTION:Fairy Ballet Day Camp is for Ages 3-8. Dance\, art\, and fairies all morning long! Boys and girls are invited to come dressed as a fairy if you wish!
X-ALT-DESC;FMTTYPE=text/html:Fairy Ballet Day Camp is for Ages 3-8. Dance\, art\, and fairies all morning long! Boys and girls are invited to come dressed as a fairy if you wish!
LOCATION:Frankfort School of Ballet 340 St. Clair St.
UID:e.1786.3104
SEQUENCE:3
DTSTAMP:20260425T114052Z
URL:https://members.frankfortky.info/events/details/fairy-ballet-day-camp-3104
END:VEVENT

END:VCALENDAR
