BEGIN:VCALENDAR
VERSION:2.0
PRODID:-//ChamberMaster//Event Calendar 2.0//EN
METHOD:PUBLISH
X-PUBLISHED-TTL:P3D
REFRESH-INTERVAL:P3D
CALSCALE:GREGORIAN
BEGIN:VEVENT
DTSTART:20180703T213000Z
DTEND:20180704T000000Z
X-MICROSOFT-CDO-ALLDAYEVENT:FALSE
SUMMARY:Faith and Freedom Celebration
DESCRIPTION:Let's celebrate our American patriotism and faith for our country! Bring your chairs or spread a blanket and enjoy a Kentucky summer evening. Live Entertainment. Soloists and musical groups. Brief patriotic reflections and commentary. Family fun.
X-ALT-DESC;FMTTYPE=text/html:Let&#39\;s celebrate our American patriotism and faith for our country! Bring your chairs or spread a blanket and enjoy a Kentucky summer evening. Live Entertainment. Soloists and musical groups. Brief patriotic reflections and commentary. Family fun.&nbsp\;
LOCATION:Old Capitol Lawn 300 West Broadway
UID:e.1786.2997
SEQUENCE:3
DTSTAMP:20260426T040842Z
URL:https://members.frankfortky.info/events/details/faith-and-freedom-celebration-2997
END:VEVENT

END:VCALENDAR
