BEGIN:VCALENDAR
VERSION:2.0
PRODID:-//ChamberMaster//Event Calendar 2.0//EN
METHOD:PUBLISH
X-PUBLISHED-TTL:P3D
REFRESH-INTERVAL:P3D
CALSCALE:GREGORIAN
BEGIN:VEVENT
DTSTART:20180909T150000Z
DTEND:20180909T220000Z
X-MICROSOFT-CDO-ALLDAYEVENT:FALSE
SUMMARY:Fall Arts Festival
DESCRIPTION:This event is free. Parking is $5 per car\, truck\, van\, or even a bus!!Peyton Scott Russell at Josephine Sculpture Park This is an experiential arts festival   our focus is providing you\, your friends and family with opportunities to make art or experience and watch demonstrations of exciting new processes and techniques. All workshops are led by experienced artists. All ages and abilities are encouraged\, absolutely no experience is needed to participate\, just be ready to have FUN! Full list of activities: https://josephinesculpturepark.org/events-programs/fall-arts-festival/
X-ALT-DESC;FMTTYPE=text/html:This event is free. Parking is $5 per car\, truck\, van\, or even a bus!!Peyton Scott Russell at Josephine Sculpture Park This is an experiential arts festival &ndash\; our focus is providing you\, your friends and family with opportunities to make art or experience and watch demonstrations of exciting new processes and techniques. All workshops are led by experienced artists. All ages and abilities are encouraged\, absolutely no experience is needed to participate\, just be ready to have FUN! Full list of activities: https://josephinesculpturepark.org/events-programs/fall-arts-festival/
LOCATION:Josephine Sculpture Park\, 3355 Lawrenceburg Rd
UID:e.1786.3016
SEQUENCE:3
DTSTAMP:20260426T005851Z
URL:https://members.frankfortky.info/events/details/fall-arts-festival-3016
END:VEVENT

END:VCALENDAR
