BEGIN:VCALENDAR
VERSION:2.0
PRODID:-//ChamberMaster//Event Calendar 2.0//EN
METHOD:PUBLISH
X-PUBLISHED-TTL:P3D
REFRESH-INTERVAL:P3D
CALSCALE:GREGORIAN
BEGIN:VEVENT
DTSTART:20181013T150000Z
DTEND:20181013T210000Z
X-MICROSOFT-CDO-ALLDAYEVENT:FALSE
SUMMARY:Fall Farm Day
DESCRIPTION:Celebrate harvest season on the farm with Blue Grass Stockyards! Enjoy hay rides\, a petting zoo\, bounce houses\, touch-a-truck\, face painting\, Ky Proud Market\, barn maze and educational programming from Fayette County Farm Bureau and The YARDS Classroom. Open 11 am to 5 pm. 4561 Iron Works Pike\, Lexington\, KY 40511. More info call 859-255-7701.
X-ALT-DESC;FMTTYPE=text/html:Celebrate harvest season on the farm with Blue Grass Stockyards! Enjoy hay rides\, a petting zoo\, bounce houses\, touch-a-truck\, face painting\, Ky Proud Market\, barn maze and educational programming from Fayette County Farm Bureau and The YARDS Classroom. Open 11 am to 5 pm. 4561 Iron Works Pike\, Lexington\, KY 40511. More info call 859-255-7701.&nbsp\;
LOCATION:Blue Grass Stockyards\, 4561 Iron Works Pike\, Lexington\, KY 40511
UID:e.1786.3027
SEQUENCE:3
DTSTAMP:20260425T232610Z
URL:https://members.frankfortky.info/events/details/fall-farm-day-3027
END:VEVENT

END:VCALENDAR
