BEGIN:VCALENDAR
VERSION:2.0
PRODID:-//ChamberMaster//Event Calendar 2.0//EN
METHOD:PUBLISH
X-PUBLISHED-TTL:P3D
REFRESH-INTERVAL:P3D
CALSCALE:GREGORIAN
BEGIN:VEVENT
DTSTART:20200115T183000Z
DTEND:20200115T210000Z
X-MICROSOFT-CDO-ALLDAYEVENT:FALSE
SUMMARY:Family Workshop: Celebrate A Suffragist
DESCRIPTION:Learn about Kentucky's movement towards women's suffrage! In this class we will look back 100 years ago and learn about the individuals (men and women) who helped give women a voice in the voting booth! Even make a pendant to hang on your wall or fly high with pride as we celebrate the centennial of the Vote for Women! Instructor: Rebecca Wishnevski Cost: $8 per person\; $5 for members. Price includes museum admission so feel free to explore our sites for the rest of the day! All ages welcome. Registration required no later than three days before the class. Space is limited. Call 502-564-1792 or email KHSeducation@ky.gov Payment is due the day of the workshop. Workshops begin at the front desk of the Kentucky History Center.
X-ALT-DESC;FMTTYPE=text/html:Learn about Kentucky&rsquo\;s movement towards women&rsquo\;s suffrage! In this class we will look back 100 years ago and learn about the individuals (men and women) who helped give women a voice in the voting booth! Even make a pendant to hang on your wall or fly high with pride as we celebrate the centennial of the Vote for Women! Instructor: Rebecca Wishnevski Cost: $8 per person\; $5 for members. Price includes museum admission so feel free to explore our sites for the rest of the day! All ages welcome. Registration required no later than three days before the class. Space is limited. Call 502-564-1792 or email KHSeducation@ky.gov Payment is due the day of the workshop. Workshops begin at the front desk of the Kentucky History Center.
LOCATION:Thomas D. Clark Center for Kentucky History 100 W Broadway St.\, Frankfort
UID:e.1786.3341
SEQUENCE:3
DTSTAMP:20260425T001439Z
URL:https://members.frankfortky.info/events/details/family-workshop-celebrate-a-suffragist-3341
END:VEVENT

END:VCALENDAR
