BEGIN:VCALENDAR
VERSION:2.0
PRODID:-//ChamberMaster//Event Calendar 2.0//EN
METHOD:PUBLISH
X-PUBLISHED-TTL:P3D
REFRESH-INTERVAL:P3D
CALSCALE:GREGORIAN
BEGIN:VEVENT
DTSTART:20190430T223000Z
DTEND:20190430T223000Z
X-MICROSOFT-CDO-ALLDAYEVENT:FALSE
SUMMARY:Film Discussion: The Joy Luck Club
DESCRIPTION:Film Discussion: The Joy Luck Club\n\nTuesday\, April 30 @ 6:30pm\n\nCommunity Room\n\n \n\nSo you've read the book\, and now you want more? Let's compare the 1993 film adaptation of The Joy Luck Club with the classic novel.\n\n \n\nAdults\, please register for this One Book One Frankfort event before stopping at the Check Out Desk to pick up a copy of the film. For more information\, contact Diane Dehoney at 352-2665 x108 or diane@pspl.org.\n\n \n\nRegister: http://bit.ly/OBOFfilmdiscussion
X-ALT-DESC;FMTTYPE=text/html:<p style="margin:0in\;margin-bottom:.0001pt\;background:white"><b><span style="font-size:14.0pt\;font-family:&quot\;Calibri&quot\;\,&quot\;sans-serif&quot\;">Film Discussion: <i>The Joy Luck Club</i><o:p></o:p></span></b></p>\n\n<p style="margin:0in\;margin-bottom:.0001pt\;background:white"><b><span style="font-size:14.0pt\;font-family:&quot\;Calibri&quot\;\,&quot\;sans-serif&quot\;">Tuesday\, April 30 @ 6:30pm<o:p></o:p></span></b></p>\n\n<p style="margin:0in\;margin-bottom:.0001pt\;background:white"><b><span style="font-size:14.0pt\;font-family:&quot\;Calibri&quot\;\,&quot\;sans-serif&quot\;">Community Room<o:p></o:p></span></b></p>\n\n<p style="margin:0in\;margin-bottom:.0001pt\;background:white"><span style="font-size:14.0pt\;font-family:&quot\;Calibri&quot\;\,&quot\;sans-serif&quot\;"><o:p>&nbsp\;</o:p></span></p>\n\n<p style="margin:0in\;margin-bottom:.0001pt\;background:white"><span style="font-size:14.0pt\;font-family:&quot\;Calibri&quot\;\,&quot\;sans-serif&quot\;">So you&rsquo\;ve read the book\, and now you want more? Let&rsquo\;s compare the 1993 film adaptation of&nbsp\;<em><span style="font-family:&quot\;Calibri&quot\;\,&quot\;sans-serif&quot\;">The Joy Luck Club</span></em>&nbsp\;with the classic novel.<o:p></o:p></span></p>\n\n<p style="margin:0in\;margin-bottom:.0001pt\;background:white\;box-sizing: inherit\;\nfont-variant-ligatures: normal\;font-variant-caps: normal\;orphans: 2\;widows: 2\;\n-webkit-text-stroke-width: 0px\;text-decoration-style: initial\;text-decoration-color: initial\;\nword-spacing:0px"><span style="font-size:14.0pt\;font-family:&quot\;Calibri&quot\;\,&quot\;sans-serif&quot\;"><o:p>&nbsp\;</o:p></span></p>\n\n<p style="margin:0in\;margin-bottom:.0001pt\;background:white"><span style="font-size:14.0pt\;font-family:&quot\;Calibri&quot\;\,&quot\;sans-serif&quot\;">Adults\, please register for this One Book One Frankfort event before stopping at the Check Out Desk to pick up a copy of the film. For more information\, contact Diane Dehoney at 352-2665 x108 or&nbsp\;<a href="mailto:diane@pspl.org"><span style="color:windowtext">diane@pspl.org</span></a>.<o:p></o:p></span></p>\n\n<p style="margin:0in\;margin-bottom:.0001pt\;background:white\;box-sizing: inherit\;\nfont-variant-ligatures: normal\;font-variant-caps: normal\;orphans: 2\;widows: 2\;\n-webkit-text-stroke-width: 0px\;text-decoration-style: initial\;text-decoration-color: initial\;\nword-spacing:0px"><span style="font-size:14.0pt\;font-family:&quot\;Calibri&quot\;\,&quot\;sans-serif&quot\;"><o:p>&nbsp\;</o:p></span></p>\n\n<p style="margin:0in\;margin-bottom:.0001pt\;background:white"><span style="font-size:14.0pt\;font-family:&quot\;Calibri&quot\;\,&quot\;sans-serif&quot\;">Register:&nbsp\;<a href="http://bit.ly/OBOFfilmdiscussion"><span style="color:windowtext">http://bit.ly/OBOFfilmdiscussion</span></a><o:p></o:p></span></p>\n
LOCATION:Paul Sawyier Public Library
UID:e.1786.3110
SEQUENCE:3
DTSTAMP:20260425T150728Z
URL:https://members.frankfortky.info/events/details/film-discussion-the-joy-luck-club-3110
END:VEVENT

END:VCALENDAR
