BEGIN:VCALENDAR
VERSION:2.0
PRODID:-//ChamberMaster//Event Calendar 2.0//EN
METHOD:PUBLISH
X-PUBLISHED-TTL:P3D
REFRESH-INTERVAL:P3D
CALSCALE:GREGORIAN
BEGIN:VEVENT
DTSTART:20210402T160000Z
DTEND:20210402T170000Z
X-MICROSOFT-CDO-ALLDAYEVENT:FALSE
SUMMARY:FIRST FRIDAY SPEAKER SERIES – APOSTLE OF THE LOST CAUSE: J. WILLIAM JONES\, BAPTISTS\, AND THE DEVELOPMENT OF CONFEDERATE MEMORY
DESCRIPTION:Please join us via Zoom* as KHS continues our discussion of Confederate memory. In August 2020\, Dr. Anne Marshall shared with us her research revealing Kentucky's adoption of a pro-Confederate identity in the years after the Civil War\, although the state had remained loyal to the Union throughout the conflict. ow\, Dr. Christopher Moore will explore connections between religion and the development of Lost Cause ideology\, as he discusses the life and work of Rev. J. William Jones. A Southern Baptist pastor and Confederate army chaplain\, and later secretary of the Southern Historical Society Papers\, Jones' writings were instrumental in creating a "quasi-biblical" Lost Cause narrative of Southern virtue-in-defeat\, as well as in canonizing Southern leaders Robert E. Lee\, Stonewall Jackson\, and Jefferson Davis. Come and join the conversation. The registration deadline is 10 am on the day of the event. Questions? Contact us at KHSeducation@ky.gov or call 502-782-8070.
X-ALT-DESC;FMTTYPE=text/html:Please join us via Zoom* as KHS continues our discussion of Confederate memory. In August 2020\, Dr. Anne Marshall shared with us her research revealing Kentucky&rsquo\;s adoption of a pro-Confederate identity in the years after the Civil War\, although the state had remained loyal to the Union throughout the conflict. ow\, Dr. Christopher Moore will explore connections between religion and the development of Lost Cause ideology\, as he discusses the life and work of Rev. J. William Jones. A Southern Baptist pastor and Confederate army chaplain\, and later secretary of the Southern Historical Society Papers\, Jones&rsquo\; writings were instrumental in creating a &ldquo\;quasi-biblical&rdquo\; Lost Cause narrative of Southern virtue-in-defeat\, as well as in canonizing Southern leaders Robert E. Lee\, Stonewall Jackson\, and Jefferson Davis. Come and join the conversation. The registration deadline is 10 am on the day of the event. Questions? Contact us at KHSeducation@ky.gov or call 502-782-8070.
LOCATION:Virtual
UID:e.1786.3581
SEQUENCE:3
DTSTAMP:20260423T194123Z
URL:https://members.frankfortky.info/events/details/first-friday-speaker-series-apostle-of-the-lost-cause-j-william-jones-baptists-and-the-development-of-confederate-memory-3581
END:VEVENT

END:VCALENDAR
