BEGIN:VCALENDAR
VERSION:2.0
PRODID:-//ChamberMaster//Event Calendar 2.0//EN
METHOD:PUBLISH
X-PUBLISHED-TTL:P3D
REFRESH-INTERVAL:P3D
CALSCALE:GREGORIAN
BEGIN:VEVENT
DTSTART:20210205T170000Z
DTEND:20210205T180000Z
X-MICROSOFT-CDO-ALLDAYEVENT:FALSE
SUMMARY:FIRST FRIDAY SPEAKER SERIES: MARRIAGE ON THE BORDER: LOVE\, MUTUALITY AND DIVORCE IN THE UPPER SOUTH DURING THE CIVIL WAR
DESCRIPTION:As you make plans for Valentine's Day   whether to celebrate or avoid it   join us via Zoom* as we explore the romantic relationships of Kentuckians past! Dr. Allison Fredette of Appalachian State University will share her research\, revealing surprising new insights about love\, marriage\, and divorce in the Upper South during the Civil War era. Come and join the virtual conversation! Please register here\, and you will receive information on how to connect. The registration deadline is 10 am on the day of the event. Questions? Contact us at KHSeducation@ky.gov or call 502-782-8070. *TECHNOLOGY: This virtual event will take place via Zoom\, an online meeting platform. For optimal experience\, guests should connect using a device with a screen\, a speaker\, and a keyboard. (A web-enabled camera is also nice\, but not necessary.) To accommodate guests who may not have access to this technology\, a phone number will be provided at registration\, so they may dial into the event\, and listen to the presentation from any landline or mobile phone. Need help using Zoom? Check out this short video. You can also contact us at KHSeducation@ky.gov or call 502-782-8070 with any questions. Cost: Free for KHS members\; $5 for non-members.
X-ALT-DESC;FMTTYPE=text/html:As you make plans for Valentine&rsquo\;s Day &ndash\; whether to celebrate or avoid it &ndash\; join us via Zoom* as we explore the romantic relationships of Kentuckians past! Dr. Allison Fredette of Appalachian State University will share her research\, revealing surprising new insights about love\, marriage\, and divorce in the Upper South during the Civil War era. Come and join the virtual conversation! Please register here\, and you will receive information on how to connect. The registration deadline is 10 am on the day of the event. Questions? Contact us at KHSeducation@ky.gov or call 502-782-8070. *TECHNOLOGY: This virtual event will take place via Zoom\, an online meeting platform. For optimal experience\, guests should connect using a device with a screen\, a speaker\, and a keyboard. (A web-enabled camera is also nice\, but not necessary.) To accommodate guests who may not have access to this technology\, a phone number will be provided at registration\, so they may dial into the event\, and listen to the presentation from any landline or mobile phone. Need help using Zoom? Check out this short video. You can also contact us at KHSeducation@ky.gov or call 502-782-8070 with any questions. Cost: Free for KHS members\; $5 for non-members.
LOCATION:Virtual Event via Zoom
UID:e.1786.3567
SEQUENCE:3
DTSTAMP:20260423T233531Z
URL:https://members.frankfortky.info/events/details/first-friday-speaker-series-marriage-on-the-border-love-mutuality-and-divorce-in-the-upper-south-during-the-civil-war-3567
END:VEVENT

END:VCALENDAR
